{"text_format":"1","workbook":"xlsx","n_sheets":8,"sheets":["Face Page","Base Budget","Mod Budget Form","Form Page 4","Form Page 5","Checklist","Tuition","BA Upload"],"not_rendered":{"charts":0,"images":1,"macros":1,"external_links":7,"defined_names":99,"comments":4,"pivot_tables":0},"unopened":[],"bounds":{"document_bytes":16777216,"sheet_cells":100000,"rows_first":2000,"rows_last":500,"rows_between":2000,"halvings":0,"cell_chars":16384,"cell_head_chars":4096},"cells_cut":0,"cells_raw":0,"read":"whole","date_system":"1900"}

{"sheet":"Face Page","index":0,"n_rows":53,"n_cols":18,"rows_kept":53,"cut":false,"hidden":false,"merged":[[37,7,37,12],[38,5,38,6],[46,13,46,14],[2,8,2,9],[4,0,5,6],[22,10,23,11],[22,12,23,13],[30,7,30,8],[30,9,30,12],[30,13,30,14]]}
["Form Approved Through 6/30/2012",null,null,null,null,null,null,null,null,null,null,null,null,null,"OMB No.   0925-0001  "]
["Department of Health and Human Services",null,null,null,null,null,null,"  LEAVE BLANK—FOR PHS USE ONLY."]
["Public Health Services",null,null,null,null,null,null,"  Type"," Activity",null,null,"Number"]
[null,null,null,null,null,null,null,"  Review Group",null,null,null,"Formerly"]
["Do not exceed character length restrictions indicated.",null,null,null,null,null,null,"  Council/Board (Month, Year)",null,null,null,"Date Received"]
[]
["1.   TITLE OF PROJECT (Do not exceed 81 characters, including spaces and punctuation.)"]
[]
["2.   RESPONSE TO SPECIFIC REQUEST FOR APPLICATIONS OR PROGRAM ANNOUNCEMENT OR SOLICITATION",null,null,null,null,null,null,null,null,null,null,null,null,"NO","YES"]
["   (If \"Yes,\" state number and title)"]
["Number:",null,null,"      Title:"]
["3.  PROGRAM DIRECTOR/PRINCIPAL INVESTIGATOR"]
["3a.  NAME (Last, first, middle)",null,null,null,null,null,null,"3b.   DEGREE(S)",null,null,"3h.","  eRA Commons User Name"]
[]
["3c.  POSITION TITLE",null,null,null,null,null,null,"3d.   MAILING ADDRESS  (Street, city, state, zip code)"]
[]
["3e.  DEPARTMENT, SERVICE, LABORATORY, OR EQUIVALENT"]
[]
["3f.  MAJOR SUBDIVISION",null,null,null,null,null,null,null,"Ames, IA 50011-xxxx"]
[]
["3g.  TELEPHONE AND FAX  (Area code, number and extension)",null,null,null,null,null,null,"E-MAIL ADDRESS:"]
[" TEL:","(515) 294-xxxx",null,null,"    FAX:",null,"(515) 294-xxxx"]
["4.  HUMAN SUBJECTS RESEARCH",null,null,null,null,"4a.  Research Exempt",null," If \"Yes,\" Exemption No. "]
["           No","        Yes",null,null,null,"          No             Yes"]
["4b.  Federal-Wide Assurance No.",null,null,null,null,"4c.  Clinical Trial",null,null,null,"4d.  NIH-defined Phase III Clinical Trial"]
[null,null,null,null,null,"          No             Yes",null,null,null,"        No",null,"Yes"]
["5.   VERTEBRATE ANIMALS",null,null,"   No","         Yes",null,null,"5a. Animal Welfare Assurance No."]
["6.  DATES OF PROPOSED PERIOD OF",null,null,null,null,null,"7.  COSTS REQUESTED FOR INITIAL",null,null,"8.   COSTS REQUESTED FOR PROPOSED",null,null,null,null,null," ","  "," "]
["     SUPPORT (month, day, year--MM/DD/YY)",null,null,null,null,null,"     BUDGET PERIOD",null,null,"      PERIOD OF SUPPORT",null,null,null,null,null,null," "]
["From",null,"Through",null,null,null,"7a.  Direct Costs ($)","7b.  Total Costs ($)",null,"8a.  Direct Costs ($)",null,null,null,"8b.  Total Costs ($)"]
[null,null,null,null,null,null,{"$f":"'Base Budget'!L172+'Base Budget'!L193","v":0},{"$f":"'Base Budget'!$L$201","v":0},null,{"$f":"'Base Budget'!V172+'Base Budget'!V193","v":0},null,null,null,{"$f":"'Base Budget'!$E$208","v":0}]
["9.   APPLICANT ORGANIZATION",null,null,null,null,null,null,"10.   TYPE OF ORGANIZATION"]
["Name","Iowa State University of Science and Technology",null,null,null,null,null,"         Public:",null," Federal",null,"    State",null,"           Local"]
["Address","Office of Sponsored Programs Administration",null,null,null,null,null,"         Private:",null," Private Nonprofit"]
[null,"1138 Pearson",null,null,null,null,null,"         For-profit:",null," General",null,"Small Business"]
[null,"Ames, IA 50011-2207",null,null,null,null,null,"        Woman-owned",null,"    Socially and Economically Disadvantaged"]
[null,null,null,null,null,null,null," 11.   ENTITY IDENTIFICATION NUMBER"]
[null,null,null,null,null,null,null,426004224]
[null,null,null,null,null,null,null,"DUNS NO",null,"005309844",null,"Cong. District",null,null,"IA-004"]
["12. ADMINISTRATIVE OFFICIAL TO BE NOTIFIED IF AWARD IS MADE",null,null,null,null,null,null,"13.  OFFICIAL SIGNING FOR APPLICANT ORGANIZATION"]
["Name","Rochelle Athey",null,null,null,null,null,"Name","Sara Jane M. Oftelie"]
["Title","Director, OSPA",null,null,null,null,null,"Title","Manager, Pre-Award Services"]
["Address","Iowa State University of Science and Technology",null,null,null,null,null,"Address","Iowa State University of Science and Technology"]
[null,"Office of Sponsored Programs Administration",null,null,null,null,null,null,"Office of Sponsored Programs Administration"]
[null,"1138 Pearson",null,null,null,null,null,null,"1138 Pearson"]
[null,"Ames, IA 50011-2207",null,null,null,null,null,null,"Ames, IA 50011-2207"]
["Tel:","515-294-5225",null,null,null,"FAX:","515-294-8000","Tel:","515-294-5225",null,null,null,"FAX:","515-294-8000"]
["E-Mail:","grants@iastate.edu",null,null,null,null,null,"E-Mail:","grants@iastate.edu"]
[null,null,null,null,null,null,null,"SIGNATURE OF OFFICIAL NAMED IN 13.",null,null,null,null,null,null,"DATE"]
[null,null,null,null,null,null,null," (In ink. \"Per\" signature not acceptable.)"]
[]
[]
["PHS 398 (Rev. 6/09)",null,null,null,null,null,"                                           Face Page  ",null,null,null,null,null,null,null,"Form Page 1"]

{"sheet":"Base Budget","index":1,"n_rows":208,"n_cols":34,"rows_kept":208,"cut":false,"hidden":false,"merged":[[1,29,1,31],[2,29,2,31],[0,2,1,8],[15,11,16,15],[19,13,19,19],[11,11,14,17],[21,2,24,2],[21,3,21,8],[22,3,22,8],[23,3,23,8],[24,3,24,8],[201,4,202,6],[25,3,25,8],[26,6,27,19],[211,11,211,13],[212,11,212,13],[209,14,210,19],[211,14,211,15],[212,14,212,15],[209,11,210,13]]}
[null,null,"NIH Modular Grant Worksheet,    1 - 5 Years"]
[null,null,null,null,null,null,null,null,null,null,null,null,null,null,null,null,null,null,null,null,null,null,null,null,null,null,null,null,null,"Eff 7/1/2013"]
[null,null,"Iowa State University",null,null,null,null,null,null,null,null,null,null,null,null,null,null,null,null,null,null,null,null,null,null,null,null,null,null,"Updated 7/5/2013"]
[]
[null,null,"Indirect Cost Categories:"]
[null,null,0.5,null,"On-Campus Organized Research"]
[null,null,0.51,null,"On Campus Instruction"]
[null,null,0.32,null,"On-Campus Other Sponsored Activities"]
[null,null,0.26,null,"Off-Campus All Programs"]
[]
[]
[null,null,"Increment Rate (Non-Personnel)",null,null,null,0.04]
[null,null,"Increment Rate (Personnel)",null,null,null,0.03]
[null,null,"Faculty Benefits",null,null,null,0.315]
[null,null,"P&S Benefits",null,null,null,0.378]
[null,null,"Merit Benefits",null,null,null,0.5]
[null,null,"Post Doc",null,null,null,0.23]
[null,null,"Undergraduate",null,null,null,4.5999999999999999E-2]
[null,null,"Graduate Assistants (per year)",null,null,null,0.13,null,null,null,null,"Note:  A module is any multiple of $25,000 up to, and including $250,000."]
[null,null,"F&A (Indirect) Rate",null,null,null,0.5,null,null,null,null,1,null,"<< Number of Years for Project"]
[]
[]
[]
[]
[]
[]
[null,null,null,null,null,null,"NIH Salary Cap policy @ http://grants.nih.gov/grants/guide/notice-files/NOT-OD-12-035.html"]
[null,null,"Personnel"]
[]
[null,null,null,null,"Faculty: Enter Either Summer (SM) Academic (AY) or Calendar (CM) Months"]
["Months: Either SM/AY or CM",null,"Faculty"]
[null,null,"Name",null,"SM","AY","CM",null,"Monthly Salary",null,"Year 1","Year 1",null,"Year 2",null,"Year 3",null,"Year 4",null,"Year 5"]
[{"$f":"IF(B33=1,A32+1,0)","v":0},{"$f":"IF(G33=0,0,1)","v":0},"PI name",null,0,0,0,null,0,null,{"$f":"#REF!*H33","v":{"$error":"#REF!"}},{"$f":"ROUND(E33*I33+F33*I33+G33*I33,0)","v":0},null,{"$f":"IF(term>1,ROUND(SUM(L33+(L33*$G$13)),0),0)","v":0},null,{"$f":"IF(term>2,ROUND(SUM(N33+(N33*$G$13)),0),0)","v":0},null,{"$f":"IF(term>3,ROUND(SUM(P33+(P33*$G$13)),0),0)","v":0},null,{"$f":"IF(term>4,ROUND(SUM(R33+(R33*$G$13)),0),0)","v":0}]
[{"$f":"IF(B34=1,SUM(A33:A33)+1,0)","v":0},{"$f":"IF(G34=0,0,1)","v":0},null,null,0,0,0,null,0,null,{"$f":"#REF!*H34","v":{"$error":"#REF!"}},{"$f":"ROUND(E34*I34+F34*I34+G34*I34,0)","v":0},null,0,null,0,null,0,null,0]
[{"$f":"IF(B35=1,SUM(B33:B34)+1,0)","v":0},{"$f":"IF(G35=0,0,1)","v":0},null,null,0,0,0,null,0,null,{"$f":"#REF!*H35","v":{"$error":"#REF!"}},0,null,0,null,0,null,0,null,0]
[{"$f":"IF(B36=1,SUM(B33:B35)+1,0)","v":0},{"$f":"IF(G36=0,0,1)","v":0},null,null,0,0,0,null,0,null,{"$f":"#REF!*H36","v":{"$error":"#REF!"}},0,null,0,null,0,null,0,null,0]
[null,null,null,null,0,0,0,null,0,null,{"$f":"#REF!*H37","v":{"$error":"#REF!"}},0,null,0,null,0,null,0,null,0]
[{"$f":"IF(B38=1,SUM(B33:B36)+1,0)","v":0},{"$f":"IF(G38=0,0,1)","v":0},null,null,0,0,0,null,0,null,{"$f":"#REF!*H38","v":{"$error":"#REF!"}},0,null,0,null,0,null,0,null,0]
[null,null,"Subtotals",null,null,null,null,null,null,null,{"$f":"SUM(K33:K38)","v":{"$error":"#REF!"}},{"$f":"SUM(L33:L38)","v":0},null,{"$f":"SUM(N33:N38)","v":0},null,{"$f":"SUM(P33:P38)","v":0},null,{"$f":"SUM(R33:R38)","v":0},null,{"$f":"SUM(T33:T38)","v":0}]
[]
[null,null,"Professional & Scientific"]
[null,null,"Name",null,null,null,"Cal Mo",null,"Monthly Salary",null,null,"Year 1",null,"Year 2",null,"Year 3",null,"Year 4",null,"Year 5"]
[{"$f":"IF(B43=1,SUM(B33:B38)+1,0)","v":0},{"$f":"IF(G43=0,0,1)","v":0},null,null,null,null,0,null,0,null,{"$f":"+L43*Professional","v":0},{"$f":"ROUND(G43*I43,0)","v":0},null,{"$f":"IF(term>1,ROUND(SUM(L43+(L43*$G$13)),0),0)","v":0},null,{"$f":"IF(term>2,ROUND(SUM(N43+(N43*$G$13)),0),0)","v":0},null,{"$f":"IF(term>3,ROUND(SUM(P43+(P43*$G$13)),0),0)","v":0},null,{"$f":"IF(term>4,ROUND(SUM(R43+(R43*$G$13)),0),0)","v":0}]
[{"$f":"IF(B44=1,SUM(B33:B43)+1,0)","v":0},{"$f":"IF(G44=0,0,1)","v":0},null,null,null,null,0,null,0,null,{"$f":"+L44*Professional","v":0},{"$f":"ROUND(G44*I44,0)","v":0},null,{"$f":"IF(term>1,ROUND(SUM(L44+(L44*$G$13)),0),0)","v":0},null,{"$f":"IF(term>2,ROUND(SUM(N44+(N44*$G$13)),0),0)","v":0},null,{"$f":"IF(term>3,ROUND(SUM(P44+(P44*$G$13)),0),0)","v":0},null,{"$f":"IF(term>4,ROUND(SUM(R44+(R44*$G$13)),0),0)","v":0}]
[{"$f":"IF(B45=1,SUM(B33:B44)+1,0)","v":0},{"$f":"IF(G45=0,0,1)","v":0},null,null,null,null,0,null,0,null,{"$f":"+L45*Professional","v":0},0,null,{"$f":"IF(term>1,ROUND(SUM(L45+(L45*$G$13)),0),0)","v":0},null,{"$f":"IF(term>2,ROUND(SUM(N45+(N45*$G$13)),0),0)","v":0},null,{"$f":"IF(term>3,ROUND(SUM(P45+(P45*$G$13)),0),0)","v":0},null,{"$f":"IF(term>4,ROUND(SUM(R45+(R45*$G$13)),0),0)","v":0}]
[{"$f":"IF(B46=1,SUM(B33:B45)+1,0)","v":0},{"$f":"IF(G46=0,0,1)","v":0},null,null,null,null,0,null,0,null,{"$f":"+L46*Professional","v":0},0,null,{"$f":"IF(term>1,ROUND(SUM(L46+(L46*$G$13)),0),0)","v":0},null,{"$f":"IF(term>2,ROUND(SUM(N46+(N46*$G$13)),0),0)","v":0},null,{"$f":"IF(term>3,ROUND(SUM(P46+(P46*$G$13)),0),0)","v":0},null,{"$f":"IF(term>4,ROUND(SUM(R46+(R46*$G$13)),0),0)","v":0}]
[{"$f":"IF(B47=1,SUM(B33:B46)+1,0)","v":0},{"$f":"IF(G47=0,0,1)","v":0},null,null,null,null,0,null,0,null,{"$f":"+L47*Professional","v":0},0,null,{"$f":"IF(term>1,ROUND(SUM(L47+(L47*$G$13)),0),0)","v":0},null,{"$f":"IF(term>2,ROUND(SUM(N47+(N47*$G$13)),0),0)","v":0},null,{"$f":"IF(term>3,ROUND(SUM(P47+(P47*$G$13)),0),0)","v":0},null,{"$f":"IF(term>4,ROUND(SUM(R47+(R47*$G$13)),0),0)","v":0}]
[null,null,"Subtotals",null,null,null,null,null,null,null,null,{"$f":"SUM(L43:L47)","v":0},null,{"$f":"SUM(N43:N47)","v":0},null,{"$f":"SUM(P43:P47)","v":0},null,{"$f":"SUM(R43:R47)","v":0},null,{"$f":"SUM(T43:T47)","v":0}]
[]
[]
[null,null,"Merit"]
[null,null,"Name",null,null,null,"Cal Mo",null,"Monthly Salary",null,null,"Year 1",null,"Year 2",null,"Year 3",null,"Year 4",null,"Year 5"]
[{"$f":"IF(B53=1,SUM($B$33:B52)+1,0)","v":0},{"$f":"IF(G53=0,0,1)","v":0},null,null,null,null,0,null,0,null,{"$f":"+L53*Merit","v":0},{"$f":"ROUND(G53*I53,0)","v":0},null,{"$f":"IF(term>1,ROUND(SUM(L53+(L53*$G$13)),0),0)","v":0},null,{"$f":"IF(term>2,ROUND(SUM(N53+(N53*$G$13)),0),0)","v":0},null,{"$f":"IF(term>3,ROUND(SUM(P53+(P53*$G$13)),0),0)","v":0},null,{"$f":"IF(term>4,ROUND(SUM(R53+(R53*$G$13)),0),0)","v":0}]
[{"$f":"IF(B54=1,SUM($B$33:B53)+1,0)","v":0},{"$f":"IF(G54=0,0,1)","v":0},null,null,null,null,0,null,0,null,{"$f":"+L54*Merit","v":0},{"$f":"ROUND(G54*I54,0)","v":0},null,{"$f":"IF(term>1,ROUND(SUM(L54+(L54*$G$13)),0),0)","v":0},null,{"$f":"IF(term>2,ROUND(SUM(N54+(N54*$G$13)),0),0)","v":0},null,{"$f":"IF(term>3,ROUND(SUM(P54+(P54*$G$13)),0),0)","v":0},null,{"$f":"IF(term>4,ROUND(SUM(R54+(R54*$G$13)),0),0)","v":0}]
[{"$f":"IF(B55=1,SUM($B$33:B54)+1,0)","v":0},{"$f":"IF(G55=0,0,1)","v":0},null,null,null,null,0,null,0,null,{"$f":"+L55*Merit","v":0},0,null,{"$f":"IF(term>1,ROUND(SUM(L55+(L55*$G$13)),0),0)","v":0},null,{"$f":"IF(term>2,ROUND(SUM(N55+(N55*$G$13)),0),0)","v":0},null,{"$f":"IF(term>3,ROUND(SUM(P55+(P55*$G$13)),0),0)","v":0},null,{"$f":"IF(term>4,ROUND(SUM(R55+(R55*$G$13)),0),0)","v":0}]
[{"$f":"IF(B56=1,SUM($B$33:B55)+1,0)","v":0},{"$f":"IF(G56=0,0,1)","v":0},null,null,null,null,0,null,0,null,{"$f":"+L56*Merit","v":0},0,null,{"$f":"IF(term>1,ROUND(SUM(L56+(L56*$G$13)),0),0)","v":0},null,{"$f":"IF(term>2,ROUND(SUM(N56+(N56*$G$13)),0),0)","v":0},null,{"$f":"IF(term>3,ROUND(SUM(P56+(P56*$G$13)),0),0)","v":0},null,{"$f":"IF(term>4,ROUND(SUM(R56+(R56*$G$13)),0),0)","v":0}]
[{"$f":"IF(B57=1,SUM($B$33:B56)+1,0)","v":0},{"$f":"IF(G57=0,0,1)","v":0},null,null,null,null,0,null,0,null,{"$f":"+L57*Merit","v":0},0,null,{"$f":"IF(term>1,ROUND(SUM(L57+(L57*$G$13)),0),0)","v":0},null,{"$f":"IF(term>2,ROUND(SUM(N57+(N57*$G$13)),0),0)","v":0},null,{"$f":"IF(term>3,ROUND(SUM(P57+(P57*$G$13)),0),0)","v":0},null,{"$f":"IF(term>4,ROUND(SUM(R57+(R57*$G$13)),0),0)","v":0}]
[null,null,"Subtotals",null,null,null,null,null,null,null,null,{"$f":"SUM(L53:L57)","v":0},null,{"$f":"SUM(N53:N57)","v":0},null,{"$f":"SUM(P53:P57)","v":0},null,{"$f":"SUM(R53:R57)","v":0},null,{"$f":"SUM(T53:T57)","v":0}]
[]
[]
[null,null,"Post Doctoral",null,null,null,"Salary cap for Post Docs http://grants.nih.gov/grants/guide/notice-files/NOT-OD-12-033.html"]
[null,null,"Name",null,null,null,"Cal Mo",null,"Monthly Salary",null,null,"Year 1",null,"Year 2",null,"Year 3",null,"Year 4",null,"Year 5"]
[{"$f":"IF(B63=1,SUM($B$33:B62)+1,0)","v":0},{"$f":"IF(G63=0,0,1)","v":0},null,null,null,null,0,null,0,null,{"$f":"+L63*PostDoc","v":0},{"$f":"ROUND(G63*I63,0)","v":0},null,{"$f":"IF(term>1,ROUND(SUM((L63*1.03)),0),0)","v":0},null,{"$f":"IF(term>2,ROUND(SUM((N63*1.03)),0),0)","v":0},null,{"$f":"IF(term>3,ROUND(SUM((P63*1.03)),0),0)","v":0},null,{"$f":"IF(term>4,ROUND(SUM((R63*1.03)),0),0)","v":0}]
[{"$f":"IF(B64=1,SUM($B$33:B63)+1,0)","v":0},{"$f":"IF(G64=0,0,1)","v":0},null,null,null,null,0,null,0,null,{"$f":"+L64*PostDoc","v":0},{"$f":"ROUND(G64*I64,0)","v":0},null,{"$f":"IF(term>1,ROUND(SUM((L64*1.03)),0),0)","v":0},null,{"$f":"IF(term>2,ROUND(SUM((N64*1.03)),0),0)","v":0},null,{"$f":"IF(term>3,ROUND(SUM((P64*1.03)),0),0)","v":0},null,{"$f":"IF(term>4,ROUND(SUM((R64*1.03)),0),0)","v":0}]
[{"$f":"IF(B65=1,SUM($B$33:B64)+1,0)","v":0},{"$f":"IF(G65=0,0,1)","v":0},null,null,null,null,0,null,0,null,{"$f":"+L65*PostDoc","v":0},0,null,{"$f":"IF(term>1,ROUND(SUM((L65*1.03)),0),0)","v":0},null,{"$f":"IF(term>2,ROUND(SUM((N65*1.03)),0),0)","v":0},null,{"$f":"IF(term>3,ROUND(SUM((P65*1.03)),0),0)","v":0},null,{"$f":"IF(term>4,ROUND(SUM((R65*1.03)),0),0)","v":0}]
[{"$f":"IF(B66=1,SUM($B$33:B65)+1,0)","v":0},{"$f":"IF(G66=0,0,1)","v":0},null,null,null,null,0,null,0,null,{"$f":"+L66*PostDoc","v":0},0,null,{"$f":"IF(term>1,ROUND(SUM((L66*1.03)),0),0)","v":0},null,{"$f":"IF(term>2,ROUND(SUM((N66*1.03)),0),0)","v":0},null,{"$f":"IF(term>3,ROUND(SUM((P66*1.03)),0),0)","v":0},null,{"$f":"IF(term>4,ROUND(SUM((R66*1.03)),0),0)","v":0}]
[{"$f":"IF(B67=1,SUM($B$33:B66)+1,0)","v":0},{"$f":"IF(G67=0,0,1)","v":0},null,null,null,null,0,null,0,null,{"$f":"+L67*PostDoc","v":0},0,null,{"$f":"IF(term>1,ROUND(SUM((L67*1.03)),0),0)","v":0},null,{"$f":"IF(term>2,ROUND(SUM((N67*1.03)),0),0)","v":0},null,{"$f":"IF(term>3,ROUND(SUM((P67*1.03)),0),0)","v":0},null,{"$f":"IF(term>4,ROUND(SUM((R67*1.03)),0),0)","v":0}]
[null,null,"Subtotals",null,null,null,null,null,null,null,null,{"$f":"SUM(L63:L67)","v":0},null,{"$f":"SUM(N63:N67)","v":0},null,{"$f":"SUM(P63:P67)","v":0},null,{"$f":"SUM(R63:R67)","v":0},null,{"$f":"SUM(T63:T67)","v":0}]
[]
[null,null,null,null,null,null,"Salary Cap for Graduate Students @ http://grants.nih.gov/grants/guide/notice-files/NOT-OD-12-033.html"]
[null,null,"Graduate Assistants",null,null,null,null,null,"Annual "]
[null,null,"Name",null,null,null,null,null,"Project Salary",null,null,"Year 1",null,"Year 2",null,"Year 3",null,"Year 4",null,"Year 5"]
[{"$f":"IF(B73=1,SUM($B$33:B72)+1,0)","v":0},{"$f":"IF(L73=0,0,1)","v":0},null,null,null,null,null,null,0,null,{"$f":"+L73*Grad","v":0},null,null,{"$f":"IF(term>1,ROUND(SUM((L73*1.03)),0),0)","v":0},null,{"$f":"IF(term>2,ROUND(SUM((N73*1.03)),0),0)","v":0},null,{"$f":"IF(term>3,ROUND(SUM((P73*1.03)),0),0)","v":0},null,{"$f":"IF(term>4,ROUND(SUM((R73*1.03)),0),0)","v":0}]
[{"$f":"IF(B74=1,SUM($B$33:B73)+1,0)","v":0},{"$f":"IF(L74=0,0,1)","v":0},null,null,null,null,null,null,0,null,{"$f":"+L74*Grad","v":0},null,null,{"$f":"IF(term>1,ROUND(SUM((L74*1.03)),0),0)","v":0},null,{"$f":"IF(term>2,ROUND(SUM((N74*1.03)),0),0)","v":0},null,{"$f":"IF(term>3,ROUND(SUM((P74*1.03)),0),0)","v":0},null,{"$f":"IF(term>4,ROUND(SUM((R74*1.03)),0),0)","v":0}]
[{"$f":"IF(B75=1,SUM($B$33:B74)+1,0)","v":0},{"$f":"IF(L75=0,0,1)","v":0},null,null,null,null,null,null,0,null,{"$f":"+L75*Grad","v":0},null,null,{"$f":"IF(term>1,ROUND(SUM((L75*1.03)),0),0)","v":0},null,{"$f":"IF(term>2,ROUND(SUM((N75*1.03)),0),0)","v":0},null,{"$f":"IF(term>3,ROUND(SUM((P75*1.03)),0),0)","v":0},null,{"$f":"IF(term>4,ROUND(SUM((R75*1.03)),0),0)","v":0}]
[{"$f":"IF(B76=1,SUM($B$33:B75)+1,0)","v":0},{"$f":"IF(L76=0,0,1)","v":0},null,null,null,null,null,null,0,null,{"$f":"+L76*Grad","v":0},null,null,{"$f":"IF(term>1,ROUND(SUM((L76*1.03)),0),0)","v":0},null,{"$f":"IF(term>2,ROUND(SUM((N76*1.03)),0),0)","v":0},null,{"$f":"IF(term>3,ROUND(SUM((P76*1.03)),0),0)","v":0},null,{"$f":"IF(term>4,ROUND(SUM((R76*1.03)),0),0)","v":0}]
[{"$f":"IF(B77=1,SUM($B$33:B76)+1,0)","v":0},{"$f":"IF(L77=0,0,1)","v":0},null,null,null,null,null,null,0,null,{"$f":"+L77*Grad","v":0},null,null,{"$f":"IF(term>1,ROUND(SUM((L77*1.03)),0),0)","v":0},null,{"$f":"IF(term>2,ROUND(SUM((N77*1.03)),0),0)","v":0},null,{"$f":"IF(term>3,ROUND(SUM((P77*1.03)),0),0)","v":0},null,{"$f":"IF(term>4,ROUND(SUM((R77*1.03)),0),0)","v":0}]
[null,null,"Subtotals",null,null,null,null,null,null,null,null,{"$f":"SUM(L73:L77)","v":0},null,{"$f":"SUM(N73:N77)","v":0},null,{"$f":"SUM(P73:P77)","v":0},null,{"$f":"SUM(R73:R77)","v":0},null,{"$f":"SUM(T73:T77)","v":0}]
[null,null,null,null,null,null,null,null,null,null,null,{"$f":"COUNTIF(L73:L77,\">0\")","v":0},null,{"$f":"COUNTIF(N73:N77,\">0\")","v":0},null,{"$f":"COUNTIF(P73:P77,\">0\")","v":0},null,{"$f":"COUNTIF(R73:R77,\">0\")","v":0},null,{"$f":"COUNTIF(T73:T77,\">0\")","v":0}]
[]
[null,null,"Undergraduate Students"]
[null,null,"Name",null,null,null,"Hours",null,"$/Hour",null,null,"Year 1",null,"Year 2",null,"Year 3",null,"Year 4",null,"Year 5"]
[null,null,null,null,null,null,0,null,0,null,0,{"$f":"ROUND(G83*I83,0)","v":0},null,{"$f":"IF(term>1,ROUND(SUM(L83+(L83*$G$13)),0),0)","v":0},null,{"$f":"IF(term>2,ROUND(SUM(N83+(N83*$G$13)),0),0)","v":0},null,{"$f":"IF(term>3,ROUND(SUM(P83+(P83*$G$13)),0),0)","v":0},null,{"$f":"IF(term>4,ROUND(SUM(R83+(R83*$G$13)),0),0)","v":0}]
[null,null,null,null,null,null,0,null,0,null,0,{"$f":"ROUND(G84*I84,0)","v":0},null,{"$f":"IF(term>1,ROUND(SUM(L84+(L84*$G$13)),0),0)","v":0},null,{"$f":"IF(term>2,ROUND(SUM(N84+(N84*$G$13)),0),0)","v":0},null,{"$f":"IF(term>3,ROUND(SUM(P84+(P84*$G$13)),0),0)","v":0},null,{"$f":"IF(term>4,ROUND(SUM(R84+(R84*$G$13)),0),0)","v":0}]
[null,null,null,null,null,null,0,null,0,null,0,0,null,{"$f":"IF(term>1,ROUND(SUM(L85+(L85*$G$13)),0),0)","v":0},null,{"$f":"IF(term>2,ROUND(SUM(N85+(N85*$G$13)),0),0)","v":0},null,{"$f":"IF(term>3,ROUND(SUM(P85+(P85*$G$13)),0),0)","v":0},null,{"$f":"IF(term>4,ROUND(SUM(R85+(R85*$G$13)),0),0)","v":0}]
[null,null,null,null,null,null,0,null,0,null,0,0,null,{"$f":"IF(term>1,ROUND(SUM(L86+(L86*$G$13)),0),0)","v":0},null,{"$f":"IF(term>2,ROUND(SUM(N86+(N86*$G$13)),0),0)","v":0},null,{"$f":"IF(term>3,ROUND(SUM(P86+(P86*$G$13)),0),0)","v":0},null,{"$f":"IF(term>4,ROUND(SUM(R86+(R86*$G$13)),0),0)","v":0}]
[null,null,null,null,null,null,0,null,0,null,0,0,null,{"$f":"IF(term>1,ROUND(SUM(L87+(L87*$G$13)),0),0)","v":0},null,{"$f":"IF(term>2,ROUND(SUM(N87+(N87*$G$13)),0),0)","v":0},null,{"$f":"IF(term>3,ROUND(SUM(P87+(P87*$G$13)),0),0)","v":0},null,{"$f":"IF(term>4,ROUND(SUM(R87+(R87*$G$13)),0),0)","v":0}]
[{"$f":"IF(B88=1,SUM($B$33:B87)+1,0)","v":0},{"$f":"IF(L88=0,0,1)","v":0},"Undergraduate Students",null,null,null,null,null,null,null,null,{"$f":"SUM(L83:L87)","v":0},null,0,null,0,null,0,null,0]
[]
[null,null,"Subtotal Personnel",null,null,null,null,null,null,null,null,{"$f":"SUM(L39+L48+L88+L78+L68+L58)","v":0},null,{"$f":"SUM(N39+N48+N88+N78+N68+N58)","v":0},null,{"$f":"SUM(P39+P48+P88+P78+P68+P58)","v":0},null,{"$f":"SUM(R39+R48+R88+R78+R68+R58)","v":0},null,{"$f":"SUM(T39+T48+T88+T78+T68+T58)","v":0}]
[]
[null,null,"Faculty Benefits",null,null,null,null,null,null,null,null,{"$f":"ROUND(+L39*Faculty,0)","v":0},null,{"$f":"ROUND(+N39*Faculty,0)","v":0},null,{"$f":"ROUND(+P39*Faculty,0)","v":0},null,{"$f":"ROUND(+R39*Faculty,0)","v":0},null,{"$f":"ROUND(+T39*Faculty,0)","v":0}]
[null,null,"P & S Benefits",null,null,null,null,null,null,null,null,{"$f":"ROUND(+L48*Professional,0)","v":0},null,{"$f":"ROUND(+N48*Professional,0)","v":0},null,0,null,0,null,0]
[null,null,"Merit Benefits",null,null,null,null,null,null,null,null,{"$f":"ROUND(+L58*Merit,0)","v":0},null,{"$f":"ROUND(+N58*Merit,0)","v":0},null,0,null,0,null,0]
[null,null,"Postdoctoral Benefits",null,null,null,null,null,null,null,null,{"$f":"ROUND(+L68*PostDoc,0)","v":0},null,{"$f":"ROUND(+N68*PostDoc,0)","v":0},null,0,null,0,null,0]
[null,null,"Graduate Assistant Benefits",null,null,null,null,null,null,null,null,{"$f":"ROUND(+L78*Grad,0)","v":0},null,{"$f":"ROUND(+N78*Grad,0)","v":0},null,{"$f":"ROUND(+P78*Grad,0)","v":0},null,{"$f":"ROUND(+R78*Grad,0)","v":0},null,{"$f":"ROUND(+T78*Grad,0)","v":0}]
[null,null,"Undergraduate",null,null,null,null,null,null,null,null,{"$f":"ROUND(+L88*ug,0)","v":0},null,{"$f":"ROUND(+N88*ug,0)","v":0},null,{"$f":"ROUND(+P88*ug,0)","v":0},null,{"$f":"ROUND(+R88*ug,0)","v":0},null,{"$f":"ROUND(+T88*ug,0)","v":0}]
[null,null,"Subtotal Fringe",null,null,null,null,null,null,null,null,{"$f":"SUM(L92:L97)","v":0},null,{"$f":"SUM(N92:N97)","v":0},null,{"$f":"SUM(P92:P97)","v":0},null,{"$f":"SUM(R92:R97)","v":0},null,{"$f":"SUM(T92:T97)","v":0}]
[]
[null,null,"Total Personnel",null,null,null,null,null,null,null,null,{"$f":"L90+L98","v":0},null,{"$f":"N90+N98","v":0},null,{"$f":"P90+P98","v":0},null,{"$f":"R90+R98","v":0},null,{"$f":"T90+T98","v":0}]
[]
[]
[null,null,"Consultants"]
[null,null,"(Names)"]
[null,null,null,null,null,null,null,null,null,null,null,0,null,{"$f":"IF(term>1,ROUND(SUM(L105+(L105*$G$12)),0),0)","v":0},null,{"$f":"IF(term>2,ROUND(SUM(N105+(N105*$G$12)),0),0)","v":0},null,{"$f":"IF(term>3,ROUND(SUM(P105+(P105*$G$12)),0),0)","v":0},null,{"$f":"IF(term>4,ROUND(SUM(R105+(R105*$G$12)),0),0)","v":0}]
[null,null,null,null,null,null,null,null,null,null,null,0,null,{"$f":"IF(term>1,ROUND(SUM(L106+(L106*$G$12)),0),0)","v":0},null,{"$f":"IF(term>2,ROUND(SUM(N106+(N106*$G$12)),0),0)","v":0},null,{"$f":"IF(term>3,ROUND(SUM(P106+(P106*$G$12)),0),0)","v":0},null,{"$f":"IF(term>4,ROUND(SUM(R106+(R106*$G$12)),0),0)","v":0}]
[null,null,null,null,null,null,null,null,null,null,null,0,null,{"$f":"IF(term>1,ROUND(SUM(L107+(L107*$G$12)),0),0)","v":0},null,{"$f":"IF(term>2,ROUND(SUM(N107+(N107*$G$12)),0),0)","v":0},null,{"$f":"IF(term>3,ROUND(SUM(P107+(P107*$G$12)),0),0)","v":0},null,{"$f":"IF(term>4,ROUND(SUM(R107+(R107*$G$12)),0),0)","v":0}]
[null,null,"Subtotals",null,null,null,null,null,null,null,null,{"$f":"SUM(L105:L107)","v":0},null,{"$f":"SUM(N105:N107)","v":0},null,{"$f":"SUM(P105:P107)","v":0},null,{"$f":"SUM(R105:R107)","v":0},null,{"$f":"SUM(T105:T107)","v":0}]
[null,null," "]
[]
[null,null,"Equipment"]
[null,null,"(Itemize)"]
[null,null,null,null,null,null,null,null,null,null,null,0,null,0," ",0," ",0,null,0]
[null,null,null,null,null,null,null,null,null,null,null,0,null,0,null,0,null,0,null,0]
[null,null,null,null,null,null,null,null,null,null,null,0,null,0,null,0,null,0,null,0]
[null,null,null,null,null,null,null,null,null,null,null,0,null,0,null,0,null,0,null,0]
[null,null,"Subtotals",null,null,null,null,null,null,null,null,{"$f":"SUM(L113:L116)","v":0},null,{"$f":"SUM(N113:N116)","v":0},null,{"$f":"SUM(P113:P116)","v":0},null,{"$f":"SUM(R113:R116)","v":0},null,{"$f":"SUM(T113:T116)","v":0}]
[]
[]
[null,null,"Supplies"]
[null,null,"(Itemize)"]
[null,null,null,null,null,null,null,null,null,null,null,0,null,0,null,{"$f":"IF(term>2,ROUND(SUM(N122+(N122*$G$12)),0),0)","v":0},null,{"$f":"IF(term>3,ROUND(SUM(P122+(P122*$G$12)),0),0)","v":0},null,{"$f":"IF(term>4,ROUND(SUM(R122+(R122*$G$12)),0),0)","v":0}]
[null,null,null,null,null,null,null,null,null,null,null,0,null,{"$f":"IF(term>1,ROUND(SUM(L123+(L123*$G$12)),0),0)","v":0},null,0,null,0,null,0]
[null,null,null,null,null,null,null,null,null,null,null,0,null,0,null,0,null,0,null,0]
[null,null,null,null,null,null,null,null,null,null,null,0,null,0,null,0,null,0,null,0]
[null,null,null,null,null,null,null,null,null,null,null,0,null,0,null,0,null,0,null,0]
[null,null,null,null,null,null,null,null,null,null,null,0,null,0,null,0,null,0,null,0]
[null,null,null,null,null,null,null,null,null,null,null,0,null,0,null,0,null,0,null,0]
[null,null,null,null,null,null,null,null,null,null,null,0,null,0,null,0,null,0,null,0]
[null,null,null,null,null,null,null,null,null,null,null,0,null,0,null,0,null,0,null,0]
[null,null,null,null,null,null,null,null,null,null,null,0,null,0,null,0,null,0,null,0]
[null,null,null,null,null,null,null,null,null,null,null,0,null,0,null,0,null,0,null,0]
[null,null,null,null,null,null,null,null,null,null,null,0,null,0,null,0,null,0,null,0]
[null,null,"Subtotals",null,null,null,null,null,null,null,null,{"$f":"SUM(L122:L133)","v":0},null,{"$f":"SUM(N122:N133)","v":0},null,{"$f":"SUM(P122:P133)","v":0},null,{"$f":"SUM(R122:R133)","v":0},null,{"$f":"SUM(T122:T133)","v":0}]
[]
[]
[null,null,"Patient Care"]
[null,null,"Inpatient",null,null,null,null,null,null,null,null,0,null,{"$f":"IF(term>1,ROUND(SUM(L138+(L138*$G$12)),0),0)","v":0},null,{"$f":"IF(term>2,ROUND(SUM(N138+(N138*$G$12)),0),0)","v":0},null,{"$f":"IF(term>3,ROUND(SUM(P138+(P138*$G$12)),0),0)","v":0},null,{"$f":"IF(term>4,ROUND(SUM(R138+(R138*$G$12)),0),0)","v":0}]
[null,null,"Outpatient",null,null,null,null,null,null,null,null,0,null,{"$f":"IF(term>1,ROUND(SUM(L139+(L139*$G$12)),0),0)","v":0},null,{"$f":"IF(term>2,ROUND(SUM(N139+(N139*$G$12)),0),0)","v":0},null,{"$f":"IF(term>3,ROUND(SUM(P139+(P139*$G$12)),0),0)","v":0},null,{"$f":"IF(term>4,ROUND(SUM(R139+(R139*$G$12)),0),0)","v":0}]
[null,null,"Subtotals ",null,null,null,null,null,null,null,null,{"$f":"SUM(L138:L139)","v":0},null,{"$f":"SUM(N138:N139)","v":0},null,{"$f":"SUM(P138:P139)","v":0},null,{"$f":"SUM(R138:R139)","v":0},null,{"$f":"SUM(T138:T139)","v":0}]
[]
[]
[null,null,"Alterations/Renovations"]
[null,null,"(Itemize)"]
[null,null,null,null,null,null,null,null,null,null,null,0,null,{"$f":"IF(term>1,ROUND(SUM(L145+(L145*$G$12)),0),0)","v":0},null,{"$f":"IF(term>2,ROUND(SUM(N145+(N145*$G$12)),0),0)","v":0},null,{"$f":"IF(term>3,ROUND(SUM(P145+(P145*$G$12)),0),0)","v":0},null,{"$f":"IF(term>4,ROUND(SUM(R145+(R145*$G$12)),0),0)","v":0}]
[null,null,null,null,null,null,null,null,null,null,null,0,null,{"$f":"IF(term>1,ROUND(SUM(L146+(L146*$G$12)),0),0)","v":0},null,{"$f":"IF(term>2,ROUND(SUM(N146+(N146*$G$12)),0),0)","v":0},null,{"$f":"IF(term>3,ROUND(SUM(P146+(P146*$G$12)),0),0)","v":0},null,{"$f":"IF(term>4,ROUND(SUM(R146+(R146*$G$12)),0),0)","v":0}]
[null,null,null,null,null,null,null,null,null,null,null,0,null,{"$f":"IF(term>1,ROUND(SUM(L147+(L147*$G$12)),0),0)","v":0},null,{"$f":"IF(term>2,ROUND(SUM(N147+(N147*$G$12)),0),0)","v":0},null,{"$f":"IF(term>3,ROUND(SUM(P147+(P147*$G$12)),0),0)","v":0},null,{"$f":"IF(term>4,ROUND(SUM(R147+(R147*$G$12)),0),0)","v":0}]
[null,null,"Subtotals",null,null,null,null,null,null,null,null,{"$f":"SUM(L145:L147)","v":0},null,{"$f":"SUM(N145:N147)","v":0},null,{"$f":"SUM(P145:P147)","v":0},null,{"$f":"SUM(R145:R147)","v":0},null,{"$f":"SUM(T145:T147)","v":0}]
[]
[]
[null,null,"Travel"]
[null,null,"(Itemize)"]
[null,null,null,null,null,null,null,null,null,null,null,0,null,{"$f":"IF(term>1,ROUND(SUM(L153+(L153*$G$12)),0),0)","v":0},null,{"$f":"IF(term>2,ROUND(SUM(N153+(N153*$G$12)),0),0)","v":0},null,{"$f":"IF(term>3,ROUND(SUM(P153+(P153*$G$12)),0),0)","v":0},null,{"$f":"IF(term>4,ROUND(SUM(R153+(R153*$G$12)),0),0)","v":0}]
[null,null,null,null,null,null,null,null,null,null,null,0,null,{"$f":"IF(term>1,ROUND(SUM(L154+(L154*$G$12)),0),0)","v":0},null,{"$f":"IF(term>2,ROUND(SUM(N154+(N154*$G$12)),0),0)","v":0},null,{"$f":"IF(term>3,ROUND(SUM(P154+(P154*$G$12)),0),0)","v":0},null,{"$f":"IF(term>4,ROUND(SUM(R154+(R154*$G$12)),0),0)","v":0}]
[null,null,null,null,null,null,null,null,null,null,null,0,null,{"$f":"IF(term>1,ROUND(SUM(L155+(L155*$G$12)),0),0)","v":0},null,{"$f":"IF(term>2,ROUND(SUM(N155+(N155*$G$12)),0),0)","v":0},null,{"$f":"IF(term>3,ROUND(SUM(P155+(P155*$G$12)),0),0)","v":0},null,{"$f":"IF(term>4,ROUND(SUM(R155+(R155*$G$12)),0),0)","v":0}]
[null,null,"Subtotals",null,null,null,null,null,null,null,null,{"$f":"SUM(L153:L155)","v":0},null,{"$f":"SUM(N153:N155)","v":0},null,{"$f":"SUM(P153:P155)","v":0},null,{"$f":"SUM(R153:R155)","v":0},null,{"$f":"SUM(T153:T155)","v":0}]
[null,null," "]
[]
[null,null,"Other"]
[null,null,"(Itemize)",null,null,null,null,null,null,null,null,0,null,{"$f":"IF(term>1,ROUND(SUM(L160+(L160*$G$12)),0),0)","v":0},null,{"$f":"IF(term>2,ROUND(SUM(N160+(N160*$G$12)),0),0)","v":0},null,{"$f":"IF(term>3,ROUND(SUM(P160+(P160*$G$12)),0),0)","v":0},null,{"$f":"IF(term>4,ROUND(SUM(R160+(R160*$G$12)),0),0)","v":0}]
[null,null,null,null,null,null,null,null,null,null,null,0,null,0,null,{"$f":"IF(term>2,ROUND(SUM(N161+(N161*$G$12)),0),0)","v":0},null,{"$f":"IF(term>3,ROUND(SUM(P161+(P161*$G$12)),0),0)","v":0},null,{"$f":"IF(term>4,ROUND(SUM(R161+(R161*$G$12)),0),0)","v":0}]
[null,null,null,null,null,null,null,null,null,null,null,0,null,0,null,0,null,0,null,0]
[null,null,null,null,null,null,null,null,null,null,null,0,null,0,null,0,null,0,null,0]
[null,null,null,null,null,null,null,null,null,null,null,0,null,0,null,0,null,0,null,0]
[null,null,null,null,null,null,null,null,null,null,null,0,null,0,null,0,null,0,null,0]
[null,null,null,null,null,null,null,null,null,null,null,0,null,0,null,0,null,0,null,0]
[]
[null,null,"Tuition",null,null,null,"(Non-Engineering)",null,null,null,null,{"$f":"Tuition!K6","v":0},null,{"$f":"Tuition!M6","v":0},null,{"$f":"Tuition!O6","v":0},null,{"$f":"Tuition!Q6","v":0},null,{"$f":"Tuition!S6","v":0},null,{"$f":"SUM(L168:T168)","v":0},null,"Total Tuition - Engineering"]
[null,null,"Tuition",null,null,null,"(Engineering)",null,null,null,null,{"$f":"Tuition!K26","v":0},null,{"$f":"Tuition!M26","v":0},null,{"$f":"Tuition!O26","v":0},null,{"$f":"Tuition!Q26","v":0},null,{"$f":"Tuition!S26","v":0},null,{"$f":"SUM(L169:T169)","v":0},null,"Total Tuition - Non-Engineering"]
[null,null,"Subtotals",null,null,null,null,null,null,null,null,{"$f":"SUM(L160:L169)","v":0},null,{"$f":"SUM(N160:N169)","v":0},null,{"$f":"SUM(P160:P169)","v":0},null,{"$f":"SUM(R160:R169)","v":0},null,{"$f":"SUM(T160:T169)","v":0}]
[]
[null,null,"Subtotal Direct Cost at ISU",null,null,null,null,null,null,null,null,{"$f":"SUM(L100+L108+L117+L134+L140+L148+L156+L170)","v":0},null,{"$f":"SUM(N100+N108+N117+N134+N140+N148+N156+N170)","v":0},null,{"$f":"SUM(P100+P108+P117+P134+P140+P148+P156+P170)","v":0},null,{"$f":"SUM(R100+R108+R117+R134+R140+R148+R156+R170)","v":0},null,{"$f":"SUM(T100+T108+T117+T134+T140+T148+T156+T170)","v":0},null,{"$f":"SUM(L172:T172)","v":0}]
[null,null,null,null,null,null,null,null,null,null,null,{"$f":"SUM(L100+L108+L134+L156+L170-L168-L169)","v":0},null,{"$f":"SUM(N100+N108+N134+N156+N170-N168-N169)","v":0},null,0,null,0,null,0]
[]
[null,null,"Subawards",null,null,null,null,null,null,null,null,null,null,null,null,null,null,null,null,null,null,null,null,null,null,null,null,null,null,null,null,"Sub to IDC",null,"Not Sub to IDC"]
[null,null,"Subawardee #1",null,null,null,null,null,null,null,null,null,null,null,null,null,null,null,null,null,null,null,null,null,null,null,null,null,null,null,null,{"$f":"IF(SUM(L177:T178)>25000,25000,SUM(L177:T178))","v":0},null,{"$f":"SUM(L177:T178)-AF176","v":0}]
[null,null,null,null,null,null,null,null,"Direct",null,null,0,null,0,null,0,null,0,null,0]
[null,null,null,null,null,null,null,null,"F&A (Indirect)",null,null,0,null,0,null,0,null,0,null,0]
[null,null,null,null,null,null,null,null,null,null,null,{"$f":"IF(L177+L178>=25000,\"25,000\",L177+L178)","v":0},null,{"$f":"IF(N177+N178+L179>=25000, 25000-L179, N177+N178)","v":0},null,{"$f":"IF(P177+P178+N179+L179>=25000, 25000-(N179+L179), P177+P178)","v":0},null,{"$f":"IF(R177+R178+P179+N179+L179>=25000, 25000-(P179+N179+L179), R177+R178)","v":0},null,{"$f":"IF(T177+T178+R179+P179+N179+L179>=25000, 25000-(R179+P179+N179+L179), T177+T178)","v":0}]
[null,null,"Subawardee #2",null,null,null,null,null,null,null,null,null,null,null,null,null,null,null,null,null,null,null,null,null,null,null,null,null,null,null,null,{"$f":"IF(SUM(L181:T182)>25000,25000,SUM(L181:T182))","v":0},null,{"$f":"SUM(L181:T182)-AF180","v":0}]
[null,null,null,null,null,null,null,null,"Direct",null,null,0,null,0,null,0,null,0,null,0]
[null,null,null,null,null,null,null,null,"F&A (Indirect)",null,null,0,null,0,null,0,null,0,null,0]
[null,null,null,null,null,null,null,null,null,null,null,{"$f":"IF(L181+L182>=25000,\"25,000\",L181+L182)","v":0},null,{"$f":"IF(N181+N182+L183>=25000, 25000-L183, N181+N182)","v":0},null,{"$f":"IF(P181+P182+N183+L183>=25000, 25000-(N183+L183), P181+P182)","v":0},null,{"$f":"IF(R181+R182+P183+N183+L183>=25000, 25000-(P183+N183+L183), R181+R182)","v":0},null,{"$f":"IF(T181+T182+R183+P183+N183+L183>=25000, 25000-(R183+P183+N183+L183), T181+T182)","v":0}]
[null,null,"Subawardee #3",null,null,null,null,null,null,null,null,null,null,null,null,null,null,null,null,null,null,null,null,null,null,null,null,null,null,null,null,{"$f":"IF(SUM(L185:T186)>25000,25000,SUM(L185:T186))","v":0},null,{"$f":"SUM(L185:T186)-AF184","v":0}]
[null,null,null,null,null,null,null,null,"Direct",null,null,0,null,0,null,0,null,0,null,0]
[null,null,null,null,null,null,null,null,"F&A (Indirect)",null,null,0,null,0,null,0,null,0,null,0]
[null,null,null,null,null,null,null,null,null,null,null,{"$f":"IF(L185+L186>=25000,\"25,000\",L185+L186)","v":0},null,{"$f":"IF(N185+N186+L187>=25000, 25000-L187, N185+N186)","v":0},null,{"$f":"IF(P185+P186+N187+L187>=25000, 25000-(N187+L187), P185+P186)","v":0},null,{"$f":"IF(R185+R186+P187+N187+L187>=25000, 25000-(P187+N187+L187), R185+R186)","v":0},null,{"$f":"IF(T185+T186+R187+P187+N187+L187>=25000, 25000-(R187+P187+N187+L187), T185+T186)","v":0}]
[null,null,"Subawardee #4",null,null,null,null,null,null,null,null,null,null,null,null,null,null,null,null,null,null,null,null,null,null,null,null,null,null,null,null,{"$f":"IF(SUM(L189:T190)>25000,25000,SUM(L189:T190))","v":0},null,{"$f":"SUM(L189:T190)-AF188","v":0}]
[null,null,null,null,null,null,null,null,"Direct",null,null,0,null,0,null,0,null,0,null,0]
[null,null,null,null,null,null,null,null,"F&A (Indirect)",null,null,0,null,0,null,0,null,0,null,0]
[null,null,null,null,null,null,null,null,null,null,null,{"$f":"IF(L189+L190>=25000,\"25,000\",L189+L190)","v":0},null,{"$f":"IF(N189+N190+L191>=25000, 25000-L191, N189+N190)","v":0},null,{"$f":"IF(P189+P190+N191+L191>=25000, 25000-(N191+L191), P189+P190)","v":0},null,{"$f":"IF(R189+R190+P191+N191+L191>=25000, 25000-(P191+N191+L191), R189+R190)","v":0},null,{"$f":"IF(T189+T190+R191+P191+N191+L191>=25000, 25000-(R191+P191+N191+L191), T189+T190)","v":0},null,null,null,null,null,null,null,null,null,null,null,{"$f":"SUM(AF176:AF189)","v":0},null,{"$f":"SUM(AH176:AH188)","v":0}]
[]
[null,null,"Total Direct Subawards",null,null,null,null,null,null,null,null,{"$f":"SUM(L177+L181+L185+L189)","v":0},null,{"$f":"SUM(N177+N181+N185+N189)","v":0},null,{"$f":"SUM(P177+P181+P185+P189)","v":0},null,{"$f":"SUM(R177+R181+R185+R189)","v":0},null,{"$f":"SUM(T177+T181+T185+T189)","v":0},null,{"$f":"SUM(L193:T193)","v":0}]
[null,null,"Total Indirect Subawards",null,null,null,null,null,null,null,null,{"$f":"SUM(L178+L182+L186+L190)","v":0},null,{"$f":"SUM(N178+N182+N186+N190)","v":0},null,{"$f":"SUM(P178+P182+P186+P190)","v":0},null,{"$f":"SUM(R178+R182+R186+R190)","v":0},null,{"$f":"SUM(T178+T182+T186+T190)","v":0},null,{"$f":"SUM(L194:T194)","v":0}]
[]
[]
[]
[null,null,"Total Direct",null,null,null,null,null,null,null,null,{"$f":"SUM(L172+L193+L194)","v":0},null,{"$f":"SUM(N172+N193+N194)","v":0},null,{"$f":"SUM(P172+P193+P194)","v":0},null,{"$f":"SUM(R172+R193+R194)","v":0},null,{"$f":"SUM(T172+T193+T194)","v":0}]
[null,null,"F&A Base",null,null,null,null,null,null,null,null,{"$f":"IF(L179>25000,\"25000\",L179)+IF(L183>25000,\"25000\",L183)+IF(L187>25000,\"25000\",L187)+IF(L191>25000,\"25000\",L191)+L173","v":0},null,{"$f":"IF(N179>25000,\"25000\",N179)+IF(N183>25000,\"25000\",N183)+IF(N187>25000,\"25000\",N187)+IF(N191>25000,\"25000\",N191)+N173","v":0},null,{"$f":"IF(P179>25000,\"25000\",P179)+IF(P183>25000,\"25000\",P183)+IF(P187>25000,\"25000\",P187)+IF(P191>25000,\"25000\",P191)+P173","v":0},null,{"$f":"IF(R179>25000,\"25000\",R179)+IF(R183>25000,\"25000\",R183)+IF(R187>25000,\"25000\",R187)+IF(R191>25000,\"25000\",R191)+R173","v":0},null,{"$f":"IF(T179>25000,\"25000\",T179)+IF(T183>25000,\"25000\",T183)+IF(T187>25000,\"25000\",T187)+IF(T191>25000,\"25000\",T191)+T173","v":0}]
[null,null,"Total F&A",null,null,null,null,null,null,null,null,{"$f":"ROUND(+L199*IDC,0)","v":0},null,{"$f":"ROUND(+N199*$G$20,0)","v":0},null,{"$f":"ROUND(+P199*$G$20,0)","v":0},null,{"$f":"ROUND(+R199*$G$20,0)","v":0},null,{"$f":"ROUND(+T199*$G$20,0)","v":0}]
[null,null,"Total Costs",null,null,null,null,null,null,null,null,{"$f":"SUM(L198+L200)","v":0},null,{"$f":"SUM(N198+N200)","v":0},null,{"$f":"SUM(P198+P200)","v":0},null,{"$f":"SUM(R198+R200)","v":0},null,{"$f":"SUM(T198+T200)","v":0}]
[null,null,null,null,"This is your Modular Amount > > >"]
[null,null,null,null,null,null,null,null,null,null,null,{"$f":"+L172+L193","v":0},null,{"$f":"+N172+N193","v":0},null,{"$f":"+P172+P193","v":0},null,{"$f":"+R172+R193","v":0},null,{"$f":"+T172+T193","v":0}]
[null,null,{"$f":"term","v":1},"-Year Totals"]
[null,null,"Project Direct total",null,{"$f":"L198+N198+P198+R198+T198","v":0}]
[null,null,"Project F&A base",null,{"$f":"SUM(L199+N199+P199+R199+T199)","v":0}]
[null,null,"Project F&A total",null,{"$f":"SUM(L200+N200+P200+R200+T200)","v":0}]
[null,null,"Project Total Cost",null,{"$f":"(E205+E207)","v":0}]

{"sheet":"Mod Budget Form","index":2,"n_rows":57,"n_cols":12,"rows_kept":57,"cut":false,"hidden":false,"merged":[[4,0,5,12],[9,9,9,10],[8,11,8,12],[6,11,6,12],[7,11,7,12],[9,11,9,12],[7,5,7,6],[7,7,7,8],[9,1,9,2],[9,3,9,4],[1,8,1,10],[10,3,10,4],[10,7,10,8],[10,5,10,6],[6,9,6,10],[10,9,10,10],[1,1,1,7],[6,1,6,2],[10,1,10,2],[3,0,3,12],[7,0,8,0],[7,1,7,2],[7,3,7,4],[7,9,7,10],[8,1,8,2],[8,3,8,4],[56,8,56,12],[6,3,6,4],[6,5,6,6],[6,7,6,8],[10,11,10,12],[9,5,9,6],[9,7,9,8],[8,5,8,6],[8,7,8,8],[8,9,8,10]]}
[]
[null,"Principal Investigator/Program Director (Last, First, Middle):",null,null,null,null,null,null,{"$f":"+'Base Budget'!C33","v":"PI name"}]
[]
["BUDGET JUSTIFICATION PAGE"]
["MODULAR RESEARCH GRANT APPLICATION"]
[]
[null,"Initial Period ",null,"2nd",null,"3rd",null,"4th",null,"5th",null,"Sum Total (For Entire Project Period)"]
["DC less Consortium F&A",{"$f":"+'Base Budget'!L172+'Base Budget'!L193","v":0},null,{"$f":"+'Base Budget'!N172+'Base Budget'!N193","v":0},null,{"$f":"+'Base Budget'!P172+'Base Budget'!P193","v":0},null,{"$f":"+'Base Budget'!R172+'Base Budget'!R193","v":0},null,{"$f":"+'Base Budget'!T172+'Base Budget'!T193","v":0},null,{"$f":"SUM(B8:K8)","v":0}]
[null,"(Item 7a, Face Page)",null,null,null,null,null,null,null,null,null,"(Item 8a, Face Page)"]
["Consortium F&A",{"$f":"+'Base Budget'!L194","v":0},null,{"$f":"+'Base Budget'!N194","v":0},null,{"$f":"+'Base Budget'!P194","v":0},null,{"$f":"+'Base Budget'!R194","v":0},null,{"$f":"+'Base Budget'!T194","v":0},null,{"$f":"SUM(B10:K10)","v":0}]
["Total Direct Costs",{"$f":"SUM(B8:C10)","v":0},null,{"$f":"SUM(D8:E10)","v":0},null,{"$f":"SUM(F8:G10)","v":0},null,{"$f":"SUM(H8:I10)","v":0},null,{"$f":"SUM(J8:K10)","v":0},null,{"$f":"SUM(B11:K11)","v":0}]
[]
["Personnel"]
[]
[]
[]
[]
[]
[]
[]
[]
[]
[]
[]
[]
[]
[]
[]
[]
[]
[]
[]
[]
[]
["Consortium"]
[]
[]
[]
[]
[]
[]
[]
[]
[]
[]
[]
[]
[]
[]
[]
["Fixed Fee (SBIR/STTR Only)"]
[]
[]
[]
[]
[]
["PHS 398 (Rev. 04/06)  ",null,null,null,null,"Page",null,null,"Modular Budget Format Page"]

{"sheet":"Form Page 4","index":3,"n_rows":65,"n_cols":13,"rows_kept":65,"cut":false,"hidden":false,"merged":[[27,9,28,9],[3,12,5,12],[62,0,62,5],[60,7,60,10],[11,5,12,5],[13,5,14,5],[15,5,16,5],[17,5,18,5],[19,5,20,5],[21,5,22,5],[27,5,28,5],[11,6,12,6],[13,6,14,6],[15,6,16,6],[17,6,18,6],[19,6,20,6],[21,6,22,6],[63,6,63,7],[2,10,2,12],[14,0,14,4],[16,0,16,4],[18,0,18,4],[20,0,20,4],[22,0,22,4],[58,0,58,6],[60,11,60,12],[58,11,58,12],[59,11,59,12],[61,11,61,12],[61,0,61,6],[60,0,60,5],[59,0,59,8],[4,11,5,11],[1,1,1,7],[58,7,58,10],[24,0,24,4],[26,0,26,4],[28,0,28,4],[12,0,12,4],[2,4,2,8],[4,10,5,10],[23,5,24,5],[25,5,26,5],[23,6,24,6],[25,6,26,6],[27,6,28,6],[11,7,12,7],[11,8,12,8],[13,7,14,7],[13,8,14,8],[15,7,16,7],[15,8,16,8],[17,7,18,7],[17,8,18,8],[19,7,20,7],[19,8,20,8],[21,7,22,7],[21,8,22,8],[27,7,28,7],[27,8,28,8],[23,7,24,7],[23,8,24,8],[25,7,26,7],[25,8,26,8]]}
[]
["::"]
[null,null,null,null,"Principal Investigator/Program Director (Last,First, Middle):",null,null,null,null,null,{"$f":"+'Base Budget'!C33","v":"PI name"}]
[null,null,null,null,"          DETAILED BUDGET FOR INITIAL BUDGET PERIOD",null,null,null,null,null,"FROM","THROUGH"]
[null,null,null,null,null,"DIRECT COSTS ONLY"]
[]
["PERSONNEL (Applicant organization only)"]
["Use Cal, Acad, or Summer to Enter Months Devoted to Project"]
["Enter Dollar Amounts Requested (omit cents) for Salary Requested and Fringe Benefits"]
[null,null,null,null,null,"ROLE ON","Cal.","Acad.","Sum.","INST.BASE","SALARY","FRINGE"]
[null,null,null,"NAME",null,"PROJECT","Months  ","Months","Months",null,"REQUESTED","BENEFITS","TOTALS"]
[null,null,null,null,null,"Principal Investigator"]
[{"$f":"VLOOKUP(1,'Base Budget'!$A$33:C88,3,FALSE)","v":{"$error":"#N/A"}},null,null,null,null,null,null,null,null,null,{"$f":"VLOOKUP(1,'Base Budget'!$A$33:$L$88,10,FALSE)","v":{"$error":"#N/A"}},{"$f":"VLOOKUP(1,'Base Budget'!$A$33:$L$88,9,FALSE)","v":{"$error":"#N/A"}},{"$f":"L13+K13","v":{"$error":"#N/A"}}]
[]
[{"$f":"VLOOKUP(2,'Base Budget'!A33:C88,3,FALSE)","v":{"$error":"#N/A"}},null,null,null,null,null,null,null,null,null,{"$f":"VLOOKUP(2,'Base Budget'!$A$33:$L$88,10,FALSE)","v":{"$error":"#N/A"}},{"$f":"VLOOKUP(2,'Base Budget'!$A$33:$L$88,9,FALSE)","v":{"$error":"#N/A"}},{"$f":"L15+K15","v":{"$error":"#N/A"}}]
[]
[{"$f":"VLOOKUP(3,'Base Budget'!A33:C88,3,FALSE)","v":{"$error":"#N/A"}},null,null,null,null,null,null,null,null,null,{"$f":"VLOOKUP(3,'Base Budget'!$A$33:$L$88,10,FALSE)","v":{"$error":"#N/A"}},{"$f":"VLOOKUP(3,'Base Budget'!$A$33:$L$88,9,FALSE)","v":{"$error":"#N/A"}},{"$f":"L17+K17","v":{"$error":"#N/A"}}]
[]
[{"$f":"VLOOKUP(4,'Base Budget'!A33:C88,3,FALSE)","v":{"$error":"#N/A"}},null,null,null,null,null,null,null,null,null,{"$f":"VLOOKUP(4,'Base Budget'!$A$33:$L$88,10,FALSE)","v":{"$error":"#N/A"}},{"$f":"VLOOKUP(4,'Base Budget'!$A$33:$L$88,9,FALSE)","v":{"$error":"#N/A"}},{"$f":"L19+K19","v":{"$error":"#N/A"}}]
[]
[{"$f":"VLOOKUP(5,'Base Budget'!A33:C88,3,FALSE)","v":{"$error":"#N/A"}},null,null,null,null,null,null,null,null,null,{"$f":"VLOOKUP(5,'Base Budget'!$A$33:$L$88,10,FALSE)","v":{"$error":"#N/A"}},{"$f":"VLOOKUP(5,'Base Budget'!$A$33:$L$88,9,FALSE)","v":{"$error":"#N/A"}},{"$f":"L21+K21","v":{"$error":"#N/A"}}]
[]
[{"$f":"VLOOKUP(6,'Base Budget'!A33:C88,3,FALSE)","v":{"$error":"#N/A"}},null,null,null,null,null,null,null,null,null,{"$f":"VLOOKUP(6,'Base Budget'!$A$33:$L$88,10,FALSE)","v":{"$error":"#N/A"}},{"$f":"VLOOKUP(6,'Base Budget'!$A$33:$L$88,9,FALSE)","v":{"$error":"#N/A"}},{"$f":"L23+K23","v":{"$error":"#N/A"}}]
[]
[{"$f":"VLOOKUP(7,'Base Budget'!A33:C88,3,FALSE)","v":{"$error":"#N/A"}},null,null,null,null,null,null,null,null,null,{"$f":"VLOOKUP(7,'Base Budget'!$A$33:$L$88,10,FALSE)","v":{"$error":"#N/A"}},{"$f":"VLOOKUP(7,'Base Budget'!$A$33:$L$88,9,FALSE)","v":{"$error":"#N/A"}},{"$f":"L25+K25","v":{"$error":"#N/A"}}]
[]
[{"$f":"VLOOKUP(8,'Base Budget'!A33:C88,3,FALSE)","v":{"$error":"#N/A"}},null,null,null,null,null,null,null,null,null,{"$f":"VLOOKUP(8,'Base Budget'!$A$33:$L$88,10,FALSE)","v":{"$error":"#N/A"}},{"$f":"VLOOKUP(8,'Base Budget'!$A$33:$L$88,9,FALSE)","v":{"$error":"#N/A"}},{"$f":"L27+K27","v":{"$error":"#N/A"}}]
[]
[{"$f":"VLOOKUP(9,'Base Budget'!A33:C88,3,FALSE)","v":{"$error":"#N/A"}},null,null,null,null,null,null,null,null,null,{"$f":"VLOOKUP(9,'Base Budget'!$A$33:$L$88,10,FALSE)","v":{"$error":"#N/A"}},{"$f":"VLOOKUP(9,'Base Budget'!$A$33:$L$88,9,FALSE)","v":{"$error":"#N/A"}},{"$f":"L29+K29","v":{"$error":"#N/A"}}]
[]
[null,null,null,null,null,null,"SUBTOTALS",null,null,null,{"$f":"SUMIF(K13:K29,\">1\",K13:K29)","v":0},{"$f":"SUMIF(L13:L29,\">1\",L13:L29)","v":0},{"$f":"SUMIF(M13:M29,\">1\",M13:M29)","v":0}]
["CONSULTANT COSTS"]
[]
[null,null,null,null,null,null,null,null,null,null,null,null,{"$f":"+'Base Budget'!L108","v":0}]
["EQUIPMENT (Itemize)"]
[]
[null,null,null,null,null,null,null,null,null,null,null,null,{"$f":"+'Base Budget'!L117","v":0}]
["SUPPLIES (Itemize by category)"]
[]
[]
[]
[]
[]
[null,null,null,null,null,null,null,null,null,null,null,null,{"$f":"+'Base Budget'!L134","v":0}]
["TRAVEL"]
[null,null,null,null,null,null,null,null,null,null,null,null,{"$f":"+'Base Budget'!L156","v":0}]
["INPATIENT PATIENT CARE COSTS",null,null,null,null,null,null,null,null,null,null,null,{"$f":"+'Base Budget'!L138","v":0}]
["OUTPATIENT PATIENT CARE COSTS",null,null,null,null,null,null,null,null,null,null,null,{"$f":"+'Base Budget'!L139","v":0}]
["ALTERATIONS AND RENOVATIONS (Itemize by category)"]
[null,null,null,null,null,null,null,null,null,null,null,null,{"$f":"+'Base Budget'!L148","v":0}]
["OTHER EXPENSES (itemize by category)"]
[]
[]
[]
[]
[]
[]
[null,null,null,null,null,null,null,null,null,null,null,null,{"$f":"+'Base Budget'!L170","v":0}]
["CONSORTIUM/CONTRACTUAL COSTS",null,null,null,null,null,null,"DIRECT COSTS",null,null,null,{"$f":"+'Base Budget'!L193","v":0}]
["SUBTOTAL DIRECT COSTS FOR INITIAL BUDGET PERIOD (Item 7a, Face Page)",null,null,null,null,null,null,null,null,null,null,{"$f":"SUM(M30:M58)+L59","v":0}]
["CONSORTIUM/CONTRACTUAL COSTS",null,null,null,null,null,null,"FACILITIES AND ADMINISTRATIVE COSTS",null,null,null,{"$f":"+'Base Budget'!L194","v":0}]
["TOTAL DIRECT COSTS FOR INITIAL BUDGET PERIOD",null,null,null,null,null,null,null,null,null,null,{"$f":"+L60+L61","v":0}]
["SBIR/STTR Only: FEE REQUESTED"]
["PHS 398 (Rev. 06/09)",null,null,null,null,null,"Page     "]
[null,null,null,null,null,null,null,null,null,null,null,null,"Form Page 4"]

{"sheet":"Form Page 5","index":4,"n_rows":59,"n_cols":12,"rows_kept":59,"cut":false,"hidden":false,"merged":[[37,4,39,4],[1,1,1,7],[1,8,1,10]]}
["::"]
[null,"                             Principal Investigator/Program Director (Last,First, Middle):",null,null,null,null,null,null,{"$f":"+'Base Budget'!C33","v":"PI name"}]
[null,null,null,null,null,"BUDGET FOR ENTIRE PROPOSED PROJECT PERIOD"]
[null,null,null,null,null,null,"DIRECT COSTS ONLY"]
[null,null,null,null,null,"INITIAL BUDGET",null,null,"2nd ADDITIONAL","3rd ADDITIONAL","4th ADDITIONAL","5th ADDITIONAL"]
[null,"BUDGET CATEGORY",null,null,null,"PERIOD",null,null,"YEAR OF SUPPORT ","YEAR OF SUPPORT ","YEAR OF SUPPORT ","YEAR OF SUPPORT "]
[null,null,"TOTALS",null,null,"(from Form Page 4)",null,null,"REQUESTED","REQUESTED","REQUESTED","REQUESTED"]
["PERSONNEL: Salary and fringe"]
["benefits. Applicant organization",null,null,null,null,{"$f":"+'Base Budget'!L100","v":0},null,null,{"$f":"+'Base Budget'!N100","v":0},{"$f":"+'Base Budget'!P100","v":0},{"$f":"+'Base Budget'!R100","v":0},{"$f":"+'Base Budget'!T100","v":0}]
["only."]
[]
["CONSULTANT COSTS",null,null,null,null,{"$f":"+'Base Budget'!L108","v":0},null,null,{"$f":"+'Base Budget'!N108","v":0},{"$f":"+'Base Budget'!P108","v":0},{"$f":"+'Base Budget'!R108","v":0},{"$f":"+'Base Budget'!T108","v":0}]
[]
[]
["EQUIPMENT",null,null,null,null,{"$f":"+'Base Budget'!L117","v":0},null,null,{"$f":"+'Base Budget'!N117","v":0},{"$f":"+'Base Budget'!P117","v":0},{"$f":"+'Base Budget'!R117","v":0},{"$f":"+'Base Budget'!T117","v":0}]
[]
[]
["SUPPLIES",null,null,null,null,{"$f":"+'Base Budget'!L134","v":0},null,null,{"$f":"+'Base Budget'!N134","v":0},{"$f":"+'Base Budget'!P134","v":0},{"$f":"+'Base Budget'!R134","v":0},{"$f":"+'Base Budget'!T134","v":0}]
[]
[]
["TRAVEL",null,null,null,null,{"$f":"+'Base Budget'!L156","v":0},null,null,{"$f":"+'Base Budget'!N156","v":0},{"$f":"+'Base Budget'!P156","v":0},{"$f":"+'Base Budget'!R156","v":0},{"$f":"+'Base Budget'!T156","v":0}]
[]
[]
["INPATIENT CARE COSTS",null,null,null,null,{"$f":"+'Base Budget'!L138","v":0},null,null,{"$f":"+'Base Budget'!N138","v":0},{"$f":"+'Base Budget'!P138","v":0},{"$f":"+'Base Budget'!R138","v":0},{"$f":"+'Base Budget'!T138","v":0}]
[]
["OUTPATIENT CARE COSTS",null,null,null,null,{"$f":"+'Base Budget'!L139","v":0},null,null,{"$f":"+'Base Budget'!N139","v":0},{"$f":"+'Base Budget'!P139","v":0},{"$f":"+'Base Budget'!R139","v":0},{"$f":"+'Base Budget'!T139","v":0}]
["ALTERATIONS AND"]
["RENOVATIONS",null,null,null,null,{"$f":"+'Base Budget'!L148","v":0},null,null,{"$f":"+'Base Budget'!N148","v":0},{"$f":"+'Base Budget'!P148","v":0},{"$f":"+'Base Budget'!R148","v":0},{"$f":"+'Base Budget'!T148","v":0}]
[]
["OTHER EXPENSES",null,null,null,null,{"$f":"+'Base Budget'!L170","v":0},null,null,{"$f":"+'Base Budget'!N170","v":0},{"$f":"+'Base Budget'!P170","v":0},{"$f":"+'Base Budget'!R170","v":0},{"$f":"+'Base Budget'!T170","v":0}]
[]
["DIRECT CONSORTIUM/ "]
["CONTRACTUAL",null,null,null,null,{"$f":"+'Base Budget'!L193","v":0},null,null,{"$f":"+'Base Budget'!N193","v":0},{"$f":"+'Base Budget'!P193","v":0},{"$f":"+'Base Budget'!R193","v":0},{"$f":"+'Base Budget'!T193","v":0}]
["COSTS"]
[]
["SUBTOTAL DIRECT COSTS",null,null,null,null,{"$f":"SUM(F8:F34)","v":0},null,null,{"$f":"SUM(I8:I34)","v":0},{"$f":"SUM(J8:J34)","v":0},{"$f":"SUM(K8:K34)","v":0},{"$f":"SUM(L8:L34)","v":0}]
["(Sum - Item 8a, Face Page)"]
["F&A CONSORTIUM/"]
["CONTRACTUAL",null,null,null,null,{"$f":"+'Base Budget'!L194","v":0},null,null,{"$f":"+'Base Budget'!N194","v":0},{"$f":"+'Base Budget'!P194","v":0},{"$f":"+'Base Budget'!R194","v":0},{"$f":"+'Base Budget'!T194","v":0}]
["COSTS"]
[]
["TOTAL DIRECT COSTS",null,null,null,null,{"$f":"SUM(F35:F39)","v":0},null,null,{"$f":"SUM(I35:I40)","v":0},{"$f":"SUM(J35:J40)","v":0},{"$f":"SUM(K35:K40)","v":0},{"$f":"SUM(L35:L40)","v":0}]
[]
[]
["TOTAL DIRECT COSTS FOR ENTIRE PROPOSED PERIOD",null,null,null,null,null,null,null,null,null,"$",{"$f":"SUM(F42:L42)","v":0}]
[]
["JUSTIFICATION. Follow the budget justification instructions exactly.  Use continuation pages as needed."]
[]
[]
[]
[]
[]
[]
[]
[]
[]
[]
[]
["PHS 398 (Rev. 06/09)",null,null,null,null,null,null,null,"Page ",null,null,"Form Page 5"]

{"sheet":"Checklist","index":5,"n_rows":53,"n_cols":18,"rows_kept":53,"cut":false,"hidden":false,"merged":[[37,5,37,6],[37,9,37,10],[38,5,38,6],[38,9,38,10],[39,5,39,6],[39,9,39,10],[36,5,36,6],[36,9,36,10],[0,9,0,11],[7,10,8,10],[14,8,14,10],[35,5,35,6],[35,9,35,10]]}
[null,null,null,null,null,null,"Program Director/Principal Investigator (Last, First, Middle):",null,null,{"$f":"'Base Budget'!C33","v":"PI name"}]
["CHECKLIST "]
[" TYPE OF APPLICATION (Check all that apply.)",null,null,null,null," "]
[null," NEW application.  (This application is being submitted to the PHS for the first time.)"]
[" "," RESUBMISSION of application number:",null,null,null," "]
[null," (This application replaces a prior unfunded version of a new, renewal, or revision application.)"]
[null," RENEWAL of grant number:"]
[null," (This application is to extend a funded grant beyond its current project period.)"]
[" ",null,null,null,null,null,null,null,null," "]
[" ","  REVISION to grant number:",null,null,null," ",null,null,null," "]
[null,"  (This application is for additional funds to supplement a currently funded grant.)"]
[" ","  CHANGE of program director/principal investigator.",null,null,null,null,null,null,null,null," "]
[null,"  Name of former program director/principal investigator:",null,null,null,null," "]
[" ","  CHANGE of Grantee Institution.     Name of former institution:",null,null,null,null,null,null,null,null," "]
[" ","  FOREIGN application ",null,"       Domestic Grant with foreign involvement",null,null,null,null,"List Country(ies) Involved:"]
["INVENTIONS AND PATENTS (Renewal appl. only)",null,null,null,null,"       No","      Yes"]
[null,null,null,null,null,null,"   If \"Yes,\" ",null,"Previously reported",null,null,null,null,null,"Not previously reported                             "]
["1. PROGRAM INCOME (See instructions.)"]
["All applications must indicate whether program income is anticipated during the period(s) for which grant support is requested.  If program income is",null,null,null,null,null,null,null,null,null,null,null,null,null,null,null,null," "]
["anticipated, use the format below to reflect the amount and source(s)."]
["                 Budget Period",null,null,"                                    Anticipated Amount",null,null,null,null,null,null,"                              Source(s)",null,null,null,null,null," "]
[null,"N/A",null,null,"N/A",null,null,null,null,null,"N/A"]
[]
[]
[]
["2.  ASSURANCES/CERTIFICATIONS (See instructions.)"]
["In signing the application Face Page, the authorized organizational representative agrees to comply with the policies, assurances and/or certifications"]
["listed in the application instructions when applicable. Descriptions of individual assurances/certifications are provided in Part III and listed in Part I, 4.1 "]
["under item 14.  If unable to certify compliance, where applicable, provide an explanation and place it after this page."]
["3. FACILITIES AND ADMINISTRATIVE COSTS (F&A)/ INDIRECT COSTS. See specific instructions."]
["x","  DHHS Agreement dated:",null,null,"2012-11-27",null,null," ",null,"      No Facilities And Administrative Costs Requested."]
[" ","  DHHS Agreement being negotiated with",null,null,null," "," ",null,null,null,"       Regional Office."]
[" ","  No DHHS Agreement, but rate established with",null,null,null," ",null,null,null,null,"       Date"]
[]
["CALCULATION*  (The entire grant application, including the Checklist, will be reproduced and provided to peer reviewers as confidential information.)"]
[" a.  Initial budget period:",null,null,null,"Amount of base   $    ",0,null," x Rate applied",null,{"$f":"+IDC","v":0.5},null," % = F&A costs",null,"$    ",0]
[" b.  02 year",null,null,null,"Amount of base   $    ",0,null," x Rate applied",null,{"$f":"+IDC","v":0.5},null," % = F&A costs",null,"$    ",0]
[" c.  03 year",null,null,null,"Amount of base   $    ",0,null," x Rate applied",null,{"$f":"+IDC","v":0.5},null," % = F&A costs",null,"$    ",0]
[" d.  04 year",null,null,null,"Amount of base   $    ",0,null," x Rate applied",null,{"$f":"+IDC","v":0.5},null," % = F&A costs",null,"$    ",0]
[" e.  05 year",null,null,null,"Amount of base   $    ",0,null," x Rate applied",null,{"$f":"+IDC","v":0.5},null," % = F&A costs",null,"$    ",0]
[null,null,null,null,"Enter Rate above as a decimal (e.g., 0.25 for 25%, 0.495 ",null,null,null,null,null,null," TOTAL F&A Costs",null,"$    ",0]
["*Check appropriate box(es):",null,null,null,"for 49.5%"]
[" ","  Salary and wages base",null,null,"X     ","Modified total direct cost base",null,null,null," ","                 Other base (Explain)"]
[" ","  Off-site, other special rate, or more than one rate involved (Explain)"]
["Explanation (Attach separate sheet, if necessary.):"]
[]
[]
[]
[]
["4. DISCLOSURE PERMISSION STATEMENT: If this application does not result in an award, is the Government permitted to disclose the title of "]
["your proposed project, and the name, address, telephone number and e-mail address of the official signing for the applicant organization, to "]
["organizations that may be interested in contacting you for further information (e.g., possible collaborations, investment)?",null,null,null,null,null,null,null,null,null,null,null,null,"    Yes","No           "]
["PHS 398 (Rev.  6/09)",null,null,null,null,null," Page",null,null,null,null,null,null,null,"Checklist Form Page"]

{"sheet":"Tuition","index":6,"n_rows":108,"n_cols":19,"rows_kept":108,"cut":false,"hidden":false,"merged":[[12,0,16,0],[12,2,12,3],[14,2,14,3],[16,2,16,3],[26,2,26,5],[18,0,22,0],[18,2,18,3],[20,2,20,3],[22,2,22,3],[25,2,25,5],[2,2,2,8],[5,2,5,5],[6,2,6,5],[7,2,7,5],[10,2,10,7],[79,8,79,16],[27,2,27,5],[30,2,30,7],[32,0,36,0],[32,2,32,3],[34,2,34,3],[36,2,36,3],[38,0,42,0],[38,2,38,3],[40,2,40,3],[42,2,42,3],[46,2,46,8]]}
[null,null,"           Tuition Costs",null,null,null,null,null,null,null,"Year 1",null,"Year 2",null,"Year 3",null,"Year 4",null,"Year 5"]
[]
[null,null,null,null,null,null,null,null,null,null,"Funds Requested",null,"Funds Requested",null,"Funds Requested",null,"Funds Requested",null,"Funds Requested"]
[]
[]
[8,null,"Graduate Student Tuition (NON-ENGINEERING)",null,null,null,"select 1/4-time/1/2-time > >",null,"1/2-time",null,{"$f":"ROUND(IF(I6=\"1/2-time\",K7,K8),0)","v":0},null,{"$f":"ROUND(IF(I6=\"1/2-time\",M7,M8),0)","v":0},null,{"$f":"ROUND(IF(I6=\"1/2-time\",O7,O8),0)","v":0},null,{"$f":"ROUND(IF(I6=\"1/2-time\",Q7,Q8),0)","v":0},null,{"$f":"ROUND(IF(I6=\"1/2-time\",S7,S8),0)","v":0}]
[8,null,"Graduate Student Tuition",null,null,null,null,null,"Maximum",null,{"$f":"+C13*VLOOKUP(K13,$I$53:$Q$109,5,FALSE)+C15*VLOOKUP(K15,$I$53:$Q$109,5,FALSE)+C17*VLOOKUP(K17,$I$53:$Q$109,5,FALSE)+C19*VLOOKUP(K19,$I$53:$Q$109,9,FALSE)+C21*VLOOKUP(K21,$I$53:$Q$109,9,FALSE)+C23*VLOOKUP(K23,$I$53:$Q$109,9,FALSE)","v":0},null,{"$f":"+E13*VLOOKUP(M13,$I$53:$Q$109,5,FALSE)+E15*VLOOKUP(M15,$I$53:$Q$109,5,FALSE)+E17*VLOOKUP(M17,$I$53:$Q$109,5,FALSE)+E19*VLOOKUP(M19,$I$53:$Q$109,9,FALSE)+E21*VLOOKUP(M21,$I$53:$Q$109,9,FALSE)+E23*VLOOKUP(M23,$I$53:$Q$109,9,FALSE)","v":0},null,{"$f":"+F13*VLOOKUP(O13,$I$53:$Q$109,5,FALSE)+F15*VLOOKUP(O15,$I$53:$Q$109,5,FALSE)+F17*VLOOKUP(O17,$I$53:$Q$109,5,FALSE)+F19*VLOOKUP(O19,$I$53:$Q$109,9,FALSE)+F21*VLOOKUP(O21,$I$53:$Q$109,9,FALSE)+F23*VLOOKUP(O23,$I$53:$Q$109,9,FALSE)","v":0},null,{"$f":"+G13*VLOOKUP(Q13,$I$53:$Q$109,5,FALSE)+G15*VLOOKUP(Q15,$I$53:$Q$109,5,FALSE)+G17*VLOOKUP(Q17,$I$53:$Q$109,5,FALSE)+G19*VLOOKUP(Q19,$I$53:$Q$109,9,FALSE)+G21*VLOOKUP(Q21,$I$53:$Q$109,9,FALSE)+G23*VLOOKUP(Q23,$I$53:$Q$109,9,FALSE)","v":0},null,{"$f":"+H13*VLOOKUP(S13,$I$53:$Q$109,5,FALSE)+H15*VLOOKUP(S15,$I$53:$Q$109,5,FALSE)+H17*VLOOKUP(S17,$I$53:$Q$109,5,FALSE)+H19*VLOOKUP(S19,$I$53:$Q$109,9,FALSE)+H21*VLOOKUP(S21,$I$53:$Q$109,9,FALSE)+H23*VLOOKUP(S23,$I$53:$Q$109,9,FALSE)","v":0}]
[8,null,"Graduate Student Tuition",null,null,null,null,null,"Minimum",null,{"$f":"+C13*VLOOKUP(K13,$I$53:$Q$109,3,FALSE)+C15*VLOOKUP(K15,$I$53:$Q$109,3,FALSE)+C17*VLOOKUP(K17,$I$53:$Q$109,3,FALSE)+C19*VLOOKUP(K19,$I$53:$Q$109,7,FALSE)+C21*VLOOKUP(K21,$I$53:$Q$109,7,FALSE)+C23*VLOOKUP(K23,$I$53:$Q$109,7,FALSE)","v":0},null,{"$f":"+E13*VLOOKUP(M13,$I$53:$Q$109,3,FALSE)+E15*VLOOKUP(M15,$I$53:$Q$109,3,FALSE)+E17*VLOOKUP(M17,$I$53:$Q$109,3,FALSE)+E19*VLOOKUP(M19,$I$53:$Q$109,7,FALSE)+E21*VLOOKUP(M21,$I$53:$Q$109,7,FALSE)+E23*VLOOKUP(M23,$I$53:$Q$109,7,FALSE)","v":0},null,{"$f":"+F13*VLOOKUP(O13,$I$53:$Q$109,3,FALSE)+F15*VLOOKUP(O15,$I$53:$Q$109,3,FALSE)+F17*VLOOKUP(O17,$I$53:$Q$109,3,FALSE)+F19*VLOOKUP(O19,$I$53:$Q$109,7,FALSE)+F21*VLOOKUP(O21,$I$53:$Q$109,7,FALSE)+F23*VLOOKUP(O23,$I$53:$Q$109,7,FALSE)","v":0},null,{"$f":"+G13*VLOOKUP(Q13,$I$53:$Q$84,3,FALSE)+G15*VLOOKUP(Q15,$I$53:$Q$84,3,FALSE)+G17*VLOOKUP(Q17,$I$53:$Q$84,3,FALSE)+G19*VLOOKUP(Q19,$I$53:$Q$84,7,FALSE)+G21*VLOOKUP(Q21,$I$53:$Q$84,7,FALSE)+G23*VLOOKUP(Q23,$I$53:$Q$84,7,FALSE)","v":0},null,{"$f":"+H13*VLOOKUP(S13,$I$53:$Q$84,3,FALSE)+H15*VLOOKUP(S15,$I$53:$Q$84,3,FALSE)+H17*VLOOKUP(S17,$I$53:$Q$84,3,FALSE)+H19*VLOOKUP(S19,$I$53:$Q$84,7,FALSE)+H21*VLOOKUP(S21,$I$53:$Q$84,7,FALSE)+H23*VLOOKUP(S23,$I$53:$Q$84,7,FALSE)","v":0}]
[]
[]
[null,null,"NON-Engineering Students Only"]
[null,null,"Year 1",null,"Year 2","Year 3","Year 4","Year 5"]
["Masters Students (enter no. of students per term)",null,null,null,null,null,null,null,"Summer",null,"Summer 2013",null,"Summer 2014",null,"Summer 2015",null,"Summer 2016",null,"Summer 2017"]
[]
[null,null,null,null,0,0,0,0,"Fall",null,"Fall 2013",null,"Fall 2014",null,"Fall 2015",null,"Fall 2016",null,"Fall 2017"]
[]
[null,null,null,null,0,0,0,0,"Spring",null,"Spring 2013",null,"Spring 2014",null,"Spring 2015",null,"Spring 2016",null,"Spring 2017"]
[]
["PhD Students (enter no. of students per term)",null,null,null,null,null,null,null,"Summer",null,"Summer 2013",null,"Summer 2014",null,"Summer 2015",null,"Summer 2016",null,"Summer 2017"]
[]
[null,null,null,null,null,null,null,null,"Fall",null,"Fall 2013",null,"Fall 2014",null,"Fall 2015",null,"Fall 2016",null,"Fall 2017"]
[]
[null,null,null,null,null,null,null,null,"Spring",null,"Spring 2013",null,"Spring 2014",null,"Spring 2015",null,"Spring 2016",null,"Spring 2017"]
[]
[]
[8,null,"Graduate Student Tuition (ENGINEERING)",null,null,null,"select 1/4-time/1/2-time > >",null,"1/2-time",null,{"$f":"ROUND(IF($I$26=\"1/2-time\",K27,K28),0)","v":0},null,{"$f":"ROUND(IF($I$26=\"1/2-time\",M27,M28),0)","v":0},null,{"$f":"ROUND(IF($I$26=\"1/2-time\",O27,O28),0)","v":0},null,{"$f":"ROUND(IF($I$26=\"1/2-time\",Q27,Q28),0)","v":0},null,{"$f":"ROUND(IF($I$26=\"1/2-time\",S27,S28),0)","v":0}]
[8,null,"Graduate Student Tuition",null,null,null,null,null,"Maximum",null,{"$f":"+C33*VLOOKUP(K33,$I$83:$Q$109,5,FALSE)+C35*VLOOKUP(K35,$I$83:$Q$109,5,FALSE)+C37*VLOOKUP(K37,$I$83:$Q$109,5,FALSE)+C39*VLOOKUP(K39,$I$83:$Q$109,9,FALSE)+C41*VLOOKUP(K41,$I$83:$Q$109,9,FALSE)+C43*VLOOKUP(K43,$I$83:$Q$109,9,FALSE)","v":0},null,{"$f":"+E33*VLOOKUP(M33,$I$83:$Q$109,5,FALSE)+E35*VLOOKUP(M35,$I$83:$Q$109,5,FALSE)+E37*VLOOKUP(M37,$I$83:$Q$109,5,FALSE)+E39*VLOOKUP(M39,$I$83:$Q$109,9,FALSE)+E41*VLOOKUP(M41,$I$83:$Q$109,9,FALSE)+E43*VLOOKUP(M43,$I$83:$Q$109,9,FALSE)","v":0},null,{"$f":"+F33*VLOOKUP(O33,$I$83:$Q$109,5,FALSE)+F35*VLOOKUP(O35,$I$83:$Q$109,5,FALSE)+F37*VLOOKUP(O37,$I$83:$Q$109,5,FALSE)+F39*VLOOKUP(O39,$I$83:$Q$109,9,FALSE)+F41*VLOOKUP(O41,$I$83:$Q$109,9,FALSE)+F43*VLOOKUP(O43,$I$83:$Q$109,9,FALSE)","v":0},null,{"$f":"+G33*VLOOKUP(Q33,$I$83:$Q$109,5,FALSE)+G35*VLOOKUP(Q35,$I$83:$Q$109,5,FALSE)+G37*VLOOKUP(Q37,$I$83:$Q$109,5,FALSE)+G39*VLOOKUP(Q39,$I$83:$Q$109,9,FALSE)+G41*VLOOKUP(Q41,$I$83:$Q$109,9,FALSE)+G43*VLOOKUP(Q43,$I$83:$Q$109,9,FALSE)","v":0},null,{"$f":"+H33*VLOOKUP(S33,$I$83:$Q$109,5,FALSE)+H35*VLOOKUP(S35,$I$83:$Q$109,5,FALSE)+H37*VLOOKUP(S37,$I$83:$Q$109,5,FALSE)+H39*VLOOKUP(S39,$I$83:$Q$109,9,FALSE)+H41*VLOOKUP(S41,$I$83:$Q$109,9,FALSE)+H43*VLOOKUP(S43,$I$83:$Q$109,9,FALSE)","v":0}]
[8,null,"Graduate Student Tuition",null,null,null,null,null,"Minimum",null,{"$f":"+C33*VLOOKUP(K33,$I$83:$Q$109,3,FALSE)+C35*VLOOKUP(K35,$I$83:$Q$109,3,FALSE)+C37*VLOOKUP(K37,$I$83:$Q$109,3,FALSE)+C39*VLOOKUP(K39,$I$83:$Q$109,7,FALSE)+C41*VLOOKUP(K41,$I$83:$Q$109,7,FALSE)+C43*VLOOKUP(K43,$I$83:$Q$109,7,FALSE)","v":0},null,{"$f":"+E33*VLOOKUP(M33,$I$83:$Q$109,3,FALSE)+E35*VLOOKUP(M35,$I$83:$Q$109,3,FALSE)+E37*VLOOKUP(M37,$I$83:$Q$109,3,FALSE)+E39*VLOOKUP(M39,$I$83:$Q$109,7,FALSE)+E41*VLOOKUP(M41,$I$83:$Q$109,7,FALSE)+E43*VLOOKUP(M43,$I$83:$Q$109,7,FALSE)","v":0},null,{"$f":"+F33*VLOOKUP(O33,$I$83:$Q$109,3,FALSE)+F35*VLOOKUP(O35,$I$83:$Q$109,3,FALSE)+F37*VLOOKUP(O37,$I$83:$Q$109,3,FALSE)+F39*VLOOKUP(O39,$I$83:$Q$109,7,FALSE)+F41*VLOOKUP(O41,$I$83:$Q$109,7,FALSE)+F43*VLOOKUP(O43,$I$83:$Q$109,7,FALSE)","v":0},null,{"$f":"+G33*VLOOKUP(Q33,$I$83:$Q$109,3,FALSE)+G35*VLOOKUP(Q35,$I$83:$Q$109,3,FALSE)+G37*VLOOKUP(Q37,$I$83:$Q$109,3,FALSE)+G39*VLOOKUP(Q39,$I$83:$Q$109,7,FALSE)+G41*VLOOKUP(Q41,$I$83:$Q$109,7,FALSE)+G43*VLOOKUP(Q43,$I$83:$Q$109,7,FALSE)","v":0},null,{"$f":"+H33*VLOOKUP(S33,$I$83:$Q$109,3,FALSE)+H35*VLOOKUP(S35,$I$83:$Q$109,3,FALSE)+H37*VLOOKUP(S37,$I$83:$Q$109,3,FALSE)+H39*VLOOKUP(S39,$I$83:$Q$109,7,FALSE)+H41*VLOOKUP(S41,$I$83:$Q$109,7,FALSE)+H43*VLOOKUP(S43,$I$83:$Q$109,7,FALSE)","v":0}]
[]
[]
[null,null,"Engineering Students Only"]
[null,null,"Year 1",null,"Year 2","Year 3","Year 4","Year 5"]
["Masters Students (enter no. of students per term)",null,null,null,null,null,null,null,"Summer",null,"Summer 2013",null,"Summer 2014",null,"Summer 2015",null,"Summer 2016",null,"Summer 2017"]
[null,null,1]
[null,null,null,null,null,null,null,null,"Fall",null,"Fall 2013",null,"Fall 2014",null,"Fall 2015",null,"Fall 2016",null,"Fall 2017"]
[]
[null,null,null,null,null,null,null,null,"Spring",null,"Spring 2013",null,"Spring 2014",null,"Spring 2015",null,"Spring 2016",null,"Spring 2017"]
[null,null,"Year 1",null,"Year 2","Year 3","Year 4","Year 5"]
["PhD Students (enter no. of students per term)",null,0,null,0,0,0,0,"Summer",null,"Summer 2013",null,"Summer 2014",null,"Summer 2015",null,"Summer 2016",null,"Summer 2017"]
[]
[null,null,null,null,null,null,null,null,"Fall",null,"Fall 2013",null,"Fall 2014",null,"Fall 2015",null,"Fall 2016",null,"Fall 2017"]
[]
[null,null,0,null,0,0,0,0,"Spring",null,"Spring 2013",null,"Spring 2014",null,"Spring 2015",null,"Spring 2016",null,"Spring 2017"]
[]
[]
[]
[]
[]
[null,null,null,null,null,null,null,null,null,null,"Masters - Min",null,"Masters-Max",null,"PhD - Min",null,"PhD - Max",null,"esc. Rate"]
[null,null,null,null,null,null,null,null,null,null,null,null,null,null,null,null,null,null,1.042]
[null,null,null,null,null,null,null,null,null,null,null,null,null,null,null,null,null,null,"1/4-time"]
[null,null,null,null,null,null,null,null,null,null,null,null,null,null,null,null,null,null,"1/2-time"]
[null,null,null,null,null,null,null,null,"Fall 2012",null,970,null,1939,null,1939,null,3878]
[null,null,null,null,null,null,null,null,"Fall 2013",null,981,null,1962,null,1962,null,3924]
[null,null,null,null,null,null,null,null,"Fall 2014",null,{"$f":"K54*$S$50","v":1022.202},null,{"$f":"M54*$S$50","v":2044.404},null,{"$f":"O54*$S$50","v":2044.404},null,{"$f":"Q54*$S$50","v":4088.808}]
[null,null,null,null,null,null,null,null,"Fall 2015",null,1065.1344839999999,null,{"$f":"M55*$S$50","v":2130.2689679999999},null,{"$f":"O55*$S$50","v":2130.2689679999999},null,{"$f":"Q55*$S$50","v":4260.5379359999997}]
[null,null,null,null,null,null,null,null,"Fall 2016",null,1109.870132328,null,2219.7402646559999,null,2219.7402646559999,null,4439.4805293119998]
[null,null,null,null,null,null,null,null,"Fall 2017",null,1156.4846778857759,null,2312.9693557715518,null,2312.9693557715518,null,4625.9387115431036]
[null,null,null,null,null,null,null,null,"Fall 2018",null,1205.0570343569786,null,2410.1140687139573,null,2410.1140687139573,null,4820.2281374279146]
[null,null,null,null,null,null,null,null,"Fall 2019",null,1255.6694297999718,null,2511.3388595999436,null,2511.3388595999436,null,5022.6777191998872]
[]
[null,null,null,null,null,null,null,null,"Spring 2012",null,935,null,1869,null,1869,null,3738]
[null,null,null,null,null,null,null,null,"Spring 2013",null,970,null,1939,null,1939,null,3878]
[null,null,null,null,null,null,null,null,"Spring 2014",null,981,null,1962,null,1962,null,3924]
[null,null,null,null,null,null,null,null,"Spring 2015",null,{"$f":"K64*$S$50","v":1022.202},null,{"$f":"M64*$S$50","v":2044.404},null,{"$f":"O64*$S$50","v":2044.404},null,{"$f":"Q64*$S$50","v":4088.808}]
[null,null,null,null,null,null,null,null,"Spring 2016",null,1065.1344839999999,null,2130.2689679999999,null,2130.2689679999999,null,{"$f":"Q65*$S$50","v":4260.5379359999997}]
[null,null,null,null,null,null,null,null,"Spring 2017",null,1109.870132328,null,2219.7402646559999,null,2219.7402646559999,null,4439.4805293119998]
[null,null,null,null,null,null,null,null,"Spring 2018",null,1156.4846778857759,null,2312.9693557715518,null,2312.9693557715518,null,4625.9387115431036]
[null,null,null,null,null,null,null,null,"Spring 2019",null,1205.0570343569786,null,2410.1140687139573,null,2410.1140687139573,null,4820.2281374279146]
[]
[null,null,null,null,null,null,null,null,"Summer 2012",null,539,null,1078,null,1078,null,2155]
[null,null,null,null,null,null,null,null,"Summer 2013",null,545,null,1090,null,1090,null,2180]
[null,null,null,null,null,null,null,null,"Summer 2014",null,{"$f":"K72*$S$50","v":567.89},null,{"$f":"M72*$S$50","v":1135.78},null,{"$f":"O72*$S$50","v":1135.78},null,{"$f":"Q72*$S$50","v":2271.56}]
[null,null,null,null,null,null,null,null,"Summer 2015",null,{"$f":"K73*$S$50","v":591.74138000000005},null,{"$f":"M73*$S$50","v":1183.4827600000001},null,{"$f":"O73*$S$50","v":1183.4827600000001},null,{"$f":"Q73*$S$50","v":2366.9655200000002}]
[null,null,null,null,null,null,null,null,"Summer 2016",null,616.59451796000008,null,1233.1890359200002,null,1233.1890359200002,null,2466.3780718400003]
[null,null,null,null,null,null,null,null,"Summer 2017",null,642.4914877143201,null,1284.9829754286402,null,1284.9829754286402,null,2569.9659508572804]
[null,null,null,null,null,null,null,null,"Summer 2018",null,669.47613019832158,null,1338.9522603966432,null,1338.9522603966432,null,2677.9045207932863]
[null,null,null,null,null,null,null,null,"Summer 2019",null,697.59412766665116,null,1395.1882553333023,null,1395.1882553333023,null,2790.3765106666046]
[]
[null,null,null,null,null,null,null,null,"Engineering students"]
[null,null,null,null,null,null,null,null,null,null,"Masters - Min",null,"Masters-Max",null,"PhD - Min",null,"PhD - Max"]
[]
[null,null,null,null,null,null,null,null,"Fall 2012",null,1118,null,2235,null,2235,null,4470]
[null,null,null,null,null,null,null,null,"Fall 2013",null,1131,null,2262,null,2262,null,4523]
[null,null,null,null,null,null,null,null,"Fall 2014",null,{"$f":"K84*$S$50","v":1178.502},null,{"$f":"M84*$S$50","v":2357.0039999999999},null,{"$f":"O84*$S$50","v":2357.0039999999999},null,{"$f":"Q84*$S$50","v":4712.9660000000003}]
[null,null,null,null,null,null,null,null,"Fall 2015",null,{"$f":"K85*$S$50","v":1227.999084},null,{"$f":"M85*$S$50","v":2455.9981680000001},null,{"$f":"O85*$S$50","v":2455.9981680000001},null,{"$f":"Q85*$S$50","v":4910.9105720000007}]
[null,null,null,null,null,null,null,null,"Fall 2016",null,1279.5750455280001,null,2559.1500910560003,null,2559.1500910560003,null,5117.168816024001]
[null,null,null,null,null,null,null,null,"Fall 2017",null,1333.3171974401762,null,2666.6343948803524,null,2666.6343948803524,null,5332.0899062970093]
[null,null,null,null,null,null,null,null,"Fall 2018",null,1389.3165197326637,null,2778.6330394653273,null,2778.6330394653273,null,5556.0376823614843]
[null,null,null,null,null,null,null,null,"Fall 2019",null,1447.6678135614357,null,2895.3356271228713,null,2895.3356271228713,null,5789.3912650206667]
[null,null,null,null,null,null,null,null,null,null,0,null,null,null,0]
[null,null,null,null,null,null,null,null,"Spring 2012",null,1077,null,2154,null,2154,null,4308]
[null,null,null,null,null,null,null,null,"Spring 2013",null,1118,null,2235,null,2235,null,4470]
[null,null,null,null,null,null,null,null,"Spring 2014",null,1131,null,2262,null,2262,null,4523]
[null,null,null,null,null,null,null,null,"Spring 2015",null,{"$f":"K94*$S$50","v":1178.502},null,{"$f":"M94*$S$50","v":2357.0039999999999},null,{"$f":"O94*$S$50","v":2357.0039999999999},null,{"$f":"Q94*$S$50","v":4712.9660000000003}]
[null,null,null,null,null,null,null,null,"Spring 2016",null,{"$f":"K95*$S$50","v":1227.999084},null,{"$f":"M95*$S$50","v":2455.9981680000001},null,2455.9981680000001,null,{"$f":"Q95*$S$50","v":4910.9105720000007}]
[null,null,null,null,null,null,null,null,"Spring 2017",null,1279.5750455280001,null,2559.1500910560003,null,2559.1500910560003,null,5117.168816024001]
[null,null,null,null,null,null,null,null,"Spring 2018",null,1333.3171974401762,null,2666.6343948803524,null,2666.6343948803524,null,5332.0899062970093]
[null,null,null,null,null,null,null,null,"Spring 2019",null,1389.3165197326637,null,2778.6330394653273,null,2778.6330394653273,null,5556.0376823614843]
[null,null,null,null,null,null,null,null,null,null,0,null,null,null,0]
[null,null,null,null,null,null,null,null,"Summer 2012",null,621,null,1243,null,1243,null,2485]
[null,null,null,null,null,null,null,null,"Summer 2013",null,629,null,1258,null,1258,null,2515]
[null,null,null,null,null,null,null,null,"Summer 2014",null,{"$f":"K102*$S$50","v":655.41800000000001},null,{"$f":"M102*$S$50","v":1310.836},null,{"$f":"O102*$S$50","v":1310.836},null,{"$f":"Q102*$S$50","v":2620.63}]
[null,null,null,null,null,null,null,null,"Summer 2015",null,{"$f":"K103*$S$50","v":682.94555600000001},null,{"$f":"M103*$S$50","v":1365.891112},null,{"$f":"O103*$S$50","v":1365.891112},null,{"$f":"Q103*$S$50","v":2730.6964600000001}]
[null,null,null,null,null,null,null,null,"Summer 2016",null,711.62926935200005,null,1423.2585387040001,null,1423.2585387040001,null,2845.3857113200002]
[null,null,null,null,null,null,null,null,"Summer 2017",null,741.51769866478412,null,1483.0353973295682,null,1483.0353973295682,null,2964.8919111954401]
[null,null,null,null,null,null,null,null,"Summer 2018",null,772.66144200870508,null,1545.3228840174102,null,1545.3228840174102,null,3089.4173714656486]
[null,null,null,null,null,null,null,null,"Summer 2019",null,805.11322257307074,null,1610.2264451461415,null,1610.2264451461415,null,3219.1729010672061]

{"sheet":"BA Upload","index":7,"n_rows":31,"n_cols":3,"rows_kept":31,"cut":false,"hidden":false,"merged":[]}
["Sponsor:","NIH"]
["Title: "]
["PI Name: "]
["Period of Performance:"]
["Account Number:"]
[]
["Budget Categories","Budget Code","Amount"]
["Salary/Hourly","0108",{"$f":"ROUND(SUM('Base Budget'!L90:T90),0)","v":0}]
["Payroll Benefits","0130",{"$f":"ROUND(SUM('Base Budget'!L98:T98),0)","v":0}]
["Equipment","0710",{"$f":"ROUND(SUM('Base Budget'!L117:T117),0)","v":0}]
["Travel Domestic","0215",{"$f":"ROUND(SUM('Base Budget'!L156:T156),0)","v":0}]
["Travel Foreign","0216",0]
["Student Tuition","0610",{"$f":"ROUND(SUM('Base Budget'!L168:T169),0)","v":0}]
["Supplies","0410",{"$f":"ROUND(SUM('Base Budget'!L134:T134),0)","v":0}]
["Subcontracts"]
["Subject to IDC","0396",{"$f":"ROUND('Base Budget'!AF191,0)","v":0}]
["Not Subejct to IDC","0376",{"$f":"ROUND('Base Budget'!AH191,0)","v":0}]
["Other Direct Costs"]
["Telecom Charges","0340",0]
["Computer Usage","0353",0]
["Printing/Copying","0373",0]
["Services/Honoraria","0302",{"$f":"ROUND(SUM('Base Budget'!L108:T108),0)","v":0}]
["Postage","0379",0]
["Other  ","0630",{"$f":"ROUND(SUM('Base Budget'!L140:T140)+SUM('Base Budget'!L148:T148)+SUM('Base Budget'!L160:T166),0)","v":0}]
["Total Direct Costs",null,{"$f":"SUM(C8:C24)","v":0}]
["Indirect Costs","0642",{"$f":"ROUND(SUM('Base Budget'!L200:T200),0)","v":0}]
["Total Costs",null,{"$f":"SUM(C25:C26)","v":0}]
[]
[]
["Okay to Upload"]
["2013-10-10"]